Workbook

Sheet DASHBOARD
A1: DASHBOARD — POSIÇÃO DE CAIXA
A3: Responde: quanto dinheiro existe hoje, quanto haverá no horizonte e quando pode faltar caixa.
N4: Data | O4: Saldo projetado | P4: Saldo projetado
A5: Saldo inicial consolidado | B5: =CONFIG!$B$7 -> 19000 | D5: Saldo disponível hoje | E5: =CONFIG!$B$7+SUMIFS(LANCAMENTOS!$E$6:$E$505,LANCAMENTOS!$B$6:$B$505,">="&CONFIG!$B$5,LANCAMENTOS!$B$6:$B$505,"<="&TODAY(),LANCAMENTOS!$G$6:$G$505,"Realizado")-SUMIFS(LANCAMENTOS!$F$6:$F$505,LANCAMENTOS!$B$6:$B$505,">="&CONFIG!$B$5,LANCAMENTOS!$B$6:$B$505,"<="&TODAY(),LANCAMENTOS!$G$6:$G$505,"Realizado") -> 21850 | G5: Saldo projetado no horizonte | H5: =CONFIG!$B$7+SUMIFS(LANCAMENTOS!$E$6:$E$505,LANCAMENTOS!$B$6:$B$505,">="&CONFIG!$B$5,LANCAMENTOS!$B$6:$B$505,"<="&TODAY()+CONFIG!$B$6)-SUMIFS(LANCAMENTOS!$F$6:$F$505,LANCAMENTOS!$B$6:$B$505,">="&CONFIG!$B$5,LANCAMENTOS!$B$6:$B$505,"<="&TODAY()+CONFIG!$B$6) -> 17800 | J5: Menor saldo projetado | K5: =MIN(FLUXO_DIARIO!$I$5:$I$370) -> 16800 | N5: =TEXT(FLUXO_DIARIO!A5,"dd/mm") -> 01/08 | O5: =FLUXO_DIARIO!G5 -> 23500 | P5: =FLUXO_DIARIO!G5 -> 23500
N6: =TEXT(FLUXO_DIARIO!A6,"dd/mm") -> 02/08 | O6: =FLUXO_DIARIO!G6 -> 23500 | P6: =FLUXO_DIARIO!G6 -> 23500
N7: =TEXT(FLUXO_DIARIO!A7,"dd/mm") -> 03/08 | O7: =FLUXO_DIARIO!G7 -> 21300 | P7: =FLUXO_DIARIO!G7 -> 21300
A8: Entradas realizadas | B8: =SUMIFS(LANCAMENTOS!$E$6:$E$505,LANCAMENTOS!$B$6:$B$505,">="&CONFIG!$B$5,LANCAMENTOS!$B$6:$B$505,"<="&TODAY(),LANCAMENTOS!$G$6:$G$505,"Realizado") -> 6300 | D8: Saídas realizadas | E8: =SUMIFS(LANCAMENTOS!$F$6:$F$505,LANCAMENTOS!$B$6:$B$505,">="&CONFIG!$B$5,LANCAMENTOS!$B$6:$B$505,"<="&TODAY(),LANCAMENTOS!$G$6:$G$505,"Realizado") -> 3450 | G8: Primeira ruptura no horizonte | H8: =IF(COUNTIF(FLUXO_DIARIO!$J$5:$J$370,"FALTA DE CAIXA")=0,"Sem ruptura",INDEX(FLUXO_DIARIO!$A$5:$A$370,MATCH("FALTA DE CAIXA",FLUXO_DIARIO!$J$5:$J$370,0))) -> Sem ruptura | J8: Horizonte (dias) | K8: =CONFIG!$B$6 -> 90 | N8: =TEXT(FLUXO_DIARIO!A8,"dd/mm") -> 04/08 | O8: =FLUXO_DIARIO!G8 -> 21300 | P8: =FLUXO_DIARIO!G8 -> 21300
N9: =TEXT(FLUXO_DIARIO!A9,"dd/mm") -> 05/08 | O9: =FLUXO_DIARIO!G9 -> 23100 | P9: =FLUXO_DIARIO!G9 -> 23100
N10: =TEXT(FLUXO_DIARIO!A10,"dd/mm") -> 06/08 | O10: =FLUXO_DIARIO!G10 -> 23100 | P10: =FLUXO_DIARIO!G10 -> 23100
N11: =TEXT(FLUXO_DIARIO!A11,"dd/mm") -> 07/08 | O11: =FLUXO_DIARIO!G11 -> 23100 | P11: =FLUXO_DIARIO!G11 -> 23100
A12: SALDO POR CONTA | F12: CONTROLES DE PREVISÃO | N12: =TEXT(FLUXO_DIARIO!A12,"dd/mm") -> 08/08 | O12: =FLUXO_DIARIO!G12 -> 21850 | P12: =FLUXO_DIARIO!G12 -> 21850
A13: Conta | B13: Saldo inicial (R$) | C13: Saldo atual (R$) | D13: Saldo projetado (R$) | F13: Indicador | G13: Valor | N13: =TEXT(FLUXO_DIARIO!A13,"dd/mm") -> 09/08 | O13: =FLUXO_DIARIO!G13 -> 21850 | P13: =FLUXO_DIARIO!G13 -> 21850
A14: =IF(CONFIG!A10="","",CONFIG!A10) -> Conta Corrente | B14: =IF(A14="","",CONFIG!B10) -> 12500 | C14: =IF(A14="","",B14+SUMIFS(LANCAMENTOS!$E$6:$E$505,LANCAMENTOS!$I$6:$I$505,A14,LANCAMENTOS!$B$6:$B$505,">="&CONFIG!$B$5,LANCAMENTOS!$B$6:$B$505,"<="&TODAY(),LANCAMENTOS!$G$6:$G$505,"Realizado")-SUMIFS(LANCAMENTOS!$F$6:$F$505,LANCAMENTOS!$I$6:$I$505,A14,LANCAMENTOS!$B$6:$B$505,">="&CONFIG!$B$5,LANCAMENTOS!$B$6:$B$505,"<="&TODAY(),LANCAMENTOS!$G$6:$G$505,"Realizado")) -> 15350 | D14: =IF(A14="","",B14+SUMIFS(LANCAMENTOS!$E$6:$E$505,LANCAMENTOS!$I$6:$I$505,A14,LANCAMENTOS!$B$6:$B$505,">="&CONFIG!$B$5,LANCAMENTOS!$B$6:$B$505,"<="&TODAY()+CONFIG!$B$6)-SUMIFS(LANCAMENTOS!$F$6:$F$505,LANCAMENTOS!$I$6:$I$505,A14,LANCAMENTOS!$B$6:$B$505,">="&CONFIG!$B$5,LANCAMENTOS!$B$6:$B$505,"<="&TODAY()+CONFIG!$B$6)) -> 11300 | F14: Previsões vencidas | G14: =COUNTIF(LANCAMENTOS!$O$6:$O$505,"ATENÇÃO: previsão vencida") -> 0 | N14: =TEXT(FLUXO_DIARIO!A14,"dd/mm") -> 10/08 | O14: =FLUXO_DIARIO!G14 -> 21850 | P14: =FLUXO_DIARIO!G14 -> 21850
A15: =IF(CONFIG!A11="","",CONFIG!A11) -> Caixa | B15: =IF(A15="","",CONFIG!B11) -> 1500 | C15: =IF(A15="","",B15+SUMIFS(LANCAMENTOS!$E$6:$E$505,LANCAMENTOS!$I$6:$I$505,A15,LANCAMENTOS!$B$6:$B$505,">="&CONFIG!$B$5,LANCAMENTOS!$B$6:$B$505,"<="&TODAY(),LANCAMENTOS!$G$6:$G$505,"Realizado")-SUMIFS(LANCAMENTOS!$F$6:$F$505,LANCAMENTOS!$I$6:$I$505,A15,LANCAMENTOS!$B$6:$B$505,">="&CONFIG!$B$5,LANCAMENTOS!$B$6:$B$505,"<="&TODAY(),LANCAMENTOS!$G$6:$G$505,"Realizado")) -> 1500 | D15: =IF(A15="","",B15+SUMIFS(LANCAMENTOS!$E$6:$E$505,LANCAMENTOS!$I$6:$I$505,A15,LANCAMENTOS!$B$6:$B$505,">="&CONFIG!$B$5,LANCAMENTOS!$B$6:$B$505,"<="&TODAY()+CONFIG!$B$6)-SUMIFS(LANCAMENTOS!$F$6:$F$505,LANCAMENTOS!$I$6:$I$505,A15,LANCAMENTOS!$B$6:$B$505,">="&CONFIG!$B$5,LANCAMENTOS!$B$6:$B$505,"<="&TODAY()+CONFIG!$B$6)) -> 1500 | F15: Erros de preenchimento | G15: =COUNTIF(LANCAMENTOS!$O$6:$O$505,"ERRO*") -> 0 | N15: =TEXT(FLUXO_DIARIO!A15,"dd/mm") -> 11/08 | O15: =FLUXO_DIARIO!G15 -> 21850 | P15: =FLUXO_DIARIO!G15 -> 21850
A16: =IF(CONFIG!A12="","",CONFIG!A12) -> Reserva | B16: =IF(A16="","",CONFIG!B12) -> 5000 | C16: =IF(A16="","",B16+SUMIFS(LANCAMENTOS!$E$6:$E$505,LANCAMENTOS!$I$6:$I$505,A16,LANCAMENTOS!$B$6:$B$505,">="&CONFIG!$B$5,LANCAMENTOS!$B$6:$B$505,"<="&TODAY(),LANCAMENTOS!$G$6:$G$505,"Realizado")-SUMIFS(LANCAMENTOS!$F$6:$F$505,LANCAMENTOS!$I$6:$I$505,A16,LANCAMENTOS!$B$6:$B$505,">="&CONFIG!$B$5,LANCAMENTOS!$B$6:$B$505,"<="&TODAY(),LANCAMENTOS!$G$6:$G$505,"Realizado")) -> 5000 | D16: =IF(A16="","",B16+SUMIFS(LANCAMENTOS!$E$6:$E$505,LANCAMENTOS!$I$6:$I$505,A16,LANCAMENTOS!$B$6:$B$505,">="&CONFIG!$B$5,LANCAMENTOS!$B$6:$B$505,"<="&TODAY()+CONFIG!$B$6)-SUMIFS(LANCAMENTOS!$F$6:$F$505,LANCAMENTOS!$I$6:$I$505,A16,LANCAMENTOS!$B$6:$B$505,">="&CONFIG!$B$5,LANCAMENTOS!$B$6:$B$505,"<="&TODAY()+CONFIG!$B$6)) -> 5000 | F16: Movimentos previstos no horizonte | G16: =COUNTIFS(LANCAMENTOS!$G$6:$G$505,"Previsto",LANCAMENTOS!$B$6:$B$505,">="&TODAY(),LANCAMENTOS!$B$6:$B$505,"<="&TODAY()+CONFIG!$B$6) -> 6 | N16: =TEXT(FLUXO_DIARIO!A16,"dd/mm") -> 12/08 | O16: =FLUXO_DIARIO!G16 -> 28350 | P16: =FLUXO_DIARIO!G16 -> 28350
A17: =IF(CONFIG!A13="","",CONFIG!A13) | B17: =IF(A17="","",CONFIG!B13) | C17: =IF(A17="","",B17+SUMIFS(LANCAMENTOS!$E$6:$E$505,LANCAMENTOS!$I$6:$I$505,A17,LANCAMENTOS!$B$6:$B$505,">="&CONFIG!$B$5,LANCAMENTOS!$B$6:$B$505,"<="&TODAY(),LANCAMENTOS!$G$6:$G$505,"Realizado")-SUMIFS(LANCAMENTOS!$F$6:$F$505,LANCAMENTOS!$I$6:$I$505,A17,LANCAMENTOS!$B$6:$B$505,">="&CONFIG!$B$5,LANCAMENTOS!$B$6:$B$505,"<="&TODAY(),LANCAMENTOS!$G$6:$G$505,"Realizado")) | D17: =IF(A17="","",B17+SUMIFS(LANCAMENTOS!$E$6:$E$505,LANCAMENTOS!$I$6:$I$505,A17,LANCAMENTOS!$B$6:$B$505,">="&CONFIG!$B$5,LANCAMENTOS!$B$6:$B$505,"<="&TODAY()+CONFIG!$B$6)-SUMIFS(LANCAMENTOS!$F$6:$F$505,LANCAMENTOS!$I$6:$I$505,A17,LANCAMENTOS!$B$6:$B$505,">="&CONFIG!$B$5,LANCAMENTOS!$B$6:$B$505,"<="&TODAY()+CONFIG!$B$6)) | F17: Saídas previstas no horizonte | G17: =SUMIFS(LANCAMENTOS!$F$6:$F$505,LANCAMENTOS!$G$6:$G$505,"Previsto",LANCAMENTOS!$B$6:$B$505,">="&TODAY(),LANCAMENTOS!$B$6:$B$505,"<="&TODAY()+CONFIG!$B$6) -> 13750 | N17: =TEXT(FLUXO_DIARIO!A17,"dd/mm") -> 13/08 | O17: =FLUXO_DIARIO!G17 -> 28350 | P17: =FLUXO_DIARIO!G17 -> 28350
A18: =IF(CONFIG!A14="","",CONFIG!A14) | B18: =IF(A18="","",CONFIG!B14) | C18: =IF(A18="","",B18+SUMIFS(LANCAMENTOS!$E$6:$E$505,LANCAMENTOS!$I$6:$I$505,A18,LANCAMENTOS!$B$6:$B$505,">="&CONFIG!$B$5,LANCAMENTOS!$B$6:$B$505,"<="&TODAY(),LANCAMENTOS!$G$6:$G$505,"Realizado")-SUMIFS(LANCAMENTOS!$F$6:$F$505,LANCAMENTOS!$I$6:$I$505,A18,LANCAMENTOS!$B$6:$B$505,">="&CONFIG!$B$5,LANCAMENTOS!$B$6:$B$505,"<="&TODAY(),LANCAMENTOS!$G$6:$G$505,"Realizado")) | D18: =IF(A18="","",B18+SUMIFS(LANCAMENTOS!$E$6:$E$505,LANCAMENTOS!$I$6:$I$505,A18,LANCAMENTOS!$B$6:$B$505,">="&CONFIG!$B$5,LANCAMENTOS!$B$6:$B$505,"<="&TODAY()+CONFIG!$B$6)-SUMIFS(LANCAMENTOS!$F$6:$F$505,LANCAMENTOS!$I$6:$I$505,A18,LANCAMENTOS!$B$6:$B$505,">="&CONFIG!$B$5,LANCAMENTOS!$B$6:$B$505,"<="&TODAY()+CONFIG!$B$6)) | N18: =TEXT(FLUXO_DIARIO!A18,"dd/mm") -> 14/08 | O18: =FLUXO_DIARIO!G18 -> 28350 | P18: =FLUXO_DIARIO!G18 -> 28350
A19: =IF(CONFIG!A15="","",CONFIG!A15) | B19: =IF(A19="","",CONFIG!B15) | C19: =IF(A19="","",B19+SUMIFS(LANCAMENTOS!$E$6:$E$505,LANCAMENTOS!$I$6:$I$505,A19,LANCAMENTOS!$B$6:$B$505,">="&CONFIG!$B$5,LANCAMENTOS!$B$6:$B$505,"<="&TODAY(),LANCAMENTOS!$G$6:$G$505,"Realizado")-SUMIFS(LANCAMENTOS!$F$6:$F$505,LANCAMENTOS!$I$6:$I$505,A19,LANCAMENTOS!$B$6:$B$505,">="&CONFIG!$B$5,LANCAMENTOS!$B$6:$B$505,"<="&TODAY(),LANCAMENTOS!$G$6:$G$505,"Realizado")) | D19: =IF(A19="","",B19+SUMIFS(LANCAMENTOS!$E$6:$E$505,LANCAMENTOS!$I$6:$I$505,A19,LANCAMENTOS!$B$6:$B$505,">="&CONFIG!$B$5,LANCAMENTOS!$B$6:$B$505,"<="&TODAY()+CONFIG!$B$6)-SUMIFS(LANCAMENTOS!$F$6:$F$505,LANCAMENTOS!$I$6:$I$505,A19,LANCAMENTOS!$B$6:$B$505,">="&CONFIG!$B$5,LANCAMENTOS!$B$6:$B$505,"<="&TODAY()+CONFIG!$B$6)) | N19: =TEXT(FLUXO_DIARIO!A19,"dd/mm") -> 15/08 | O19: =FLUXO_DIARIO!G19 -> 20550 | P19: =FLUXO_DIARIO!G19 -> 20550
A20: =IF(CONFIG!A16="","",CONFIG!A16) | B20: =IF(A20="","",CONFIG!B16) | C20: =IF(A20="","",B20+SUMIFS(LANCAMENTOS!$E$6:$E$505,LANCAMENTOS!$I$6:$I$505,A20,LANCAMENTOS!$B$6:$B$505,">="&CONFIG!$B$5,LANCAMENTOS!$B$6:$B$505,"<="&TODAY(),LANCAMENTOS!$G$6:$G$505,"Realizado")-SUMIFS(LANCAMENTOS!$F$6:$F$505,LANCAMENTOS!$I$6:$I$505,A20,LANCAMENTOS!$B$6:$B$505,">="&CONFIG!$B$5,LANCAMENTOS!$B$6:$B$505,"<="&TODAY(),LANCAMENTOS!$G$6:$G$505,"Realizado")) | D20: =IF(A20="","",B20+SUMIFS(LANCAMENTOS!$E$6:$E$505,LANCAMENTOS!$I$6:$I$505,A20,LANCAMENTOS!$B$6:$B$505,">="&CONFIG!$B$5,LANCAMENTOS!$B$6:$B$505,"<="&TODAY()+CONFIG!$B$6)-SUMIFS(LANCAMENTOS!$F$6:$F$505,LANCAMENTOS!$I$6:$I$505,A20,LANCAMENTOS!$B$6:$B$505,">="&CONFIG!$B$5,LANCAMENTOS!$B$6:$B$505,"<="&TODAY()+CONFIG!$B$6)) | N20: =TEXT(FLUXO_DIARIO!A20,"dd/mm") -> 16/08 | O20: =FLUXO_DIARIO!G20 -> 20550 | P20: =FLUXO_DIARIO!G20 -> 20550
A21: =IF(CONFIG!A17="","",CONFIG!A17) | B21: =IF(A21="","",CONFIG!B17) | C21: =IF(A21="","",B21+SUMIFS(LANCAMENTOS!$E$6:$E$505,LANCAMENTOS!$I$6:$I$505,A21,LANCAMENTOS!$B$6:$B$505,">="&CONFIG!$B$5,LANCAMENTOS!$B$6:$B$505,"<="&TODAY(),LANCAMENTOS!$G$6:$G$505,"Realizado")-SUMIFS(LANCAMENTOS!$F$6:$F$505,LANCAMENTOS!$I$6:$I$505,A21,LANCAMENTOS!$B$6:$B$505,">="&CONFIG!$B$5,LANCAMENTOS!$B$6:$B$505,"<="&TODAY(),LANCAMENTOS!$G$6:$G$505,"Realizado")) | D21: =IF(A21="","",B21+SUMIFS(LANCAMENTOS!$E$6:$E$505,LANCAMENTOS!$I$6:$I$505,A21,LANCAMENTOS!$B$6:$B$505,">="&CONFIG!$B$5,LANCAMENTOS!$B$6:$B$505,"<="&TODAY()+CONFIG!$B$6)-SUMIFS(LANCAMENTOS!$F$6:$F$505,LANCAMENTOS!$I$6:$I$505,A21,LANCAMENTOS!$B$6:$B$505,">="&CONFIG!$B$5,LANCAMENTOS!$B$6:$B$505,"<="&TODAY()+CONFIG!$B$6)) | N21: =TEXT(FLUXO_DIARIO!A21,"dd/mm") -> 17/08 | O21: =FLUXO_DIARIO!G21 -> 20550 | P21: =FLUXO_DIARIO!G21 -> 20550
A22: =IF(CONFIG!A18="","",CONFIG!A18) | B22: =IF(A22="","",CONFIG!B18) | C22: =IF(A22="","",B22+SUMIFS(LANCAMENTOS!$E$6:$E$505,LANCAMENTOS!$I$6:$I$505,A22,LANCAMENTOS!$B$6:$B$505,">="&CONFIG!$B$5,LANCAMENTOS!$B$6:$B$505,"<="&TODAY(),LANCAMENTOS!$G$6:$G$505,"Realizado")-SUMIFS(LANCAMENTOS!$F$6:$F$505,LANCAMENTOS!$I$6:$I$505,A22,LANCAMENTOS!$B$6:$B$505,">="&CONFIG!$B$5,LANCAMENTOS!$B$6:$B$505,"<="&TODAY(),LANCAMENTOS!$G$6:$G$505,"Realizado")) | D22: =IF(A22="","",B22+SUMIFS(LANCAMENTOS!$E$6:$E$505,LANCAMENTOS!$I$6:$I$505,A22,LANCAMENTOS!$B$6:$B$505,">="&CONFIG!$B$5,LANCAMENTOS!$B$6:$B$505,"<="&TODAY()+CONFIG!$B$6)-SUMIFS(LANCAMENTOS!$F$6:$F$505,LANCAMENTOS!$I$6:$I$505,A22,LANCAMENTOS!$B$6:$B$505,">="&CONFIG!$B$5,LANCAMENTOS!$B$6:$B$505,"<="&TODAY()+CONFIG!$B$6)) | N22: =TEXT(FLUXO_DIARIO!A22,"dd/mm") -> 18/08 | O22: =FLUXO_DIARIO!G22 -> 17450 | P22: =FLUXO_DIARIO!G22 -> 17450
A23: =IF(CONFIG!A19="","",CONFIG!A19) | B23: =IF(A23="","",CONFIG!B19) | C23: =IF(A23="","",B23+SUMIFS(LANCAMENTOS!$E$6:$E$505,LANCAMENTOS!$I$6:$I$505,A23,LANCAMENTOS!$B$6:$B$505,">="&CONFIG!$B$5,LANCAMENTOS!$B$6:$B$505,"<="&TODAY(),LANCAMENTOS!$G$6:$G$505,"Realizado")-SUMIFS(LANCAMENTOS!$F$6:$F$505,LANCAMENTOS!$I$6:$I$505,A23,LANCAMENTOS!$B$6:$B$505,">="&CONFIG!$B$5,LANCAMENTOS!$B$6:$B$505,"<="&TODAY(),LANCAMENTOS!$G$6:$G$505,"Realizado")) | D23: =IF(A23="","",B23+SUMIFS(LANCAMENTOS!$E$6:$E$505,LANCAMENTOS!$I$6:$I$505,A23,LANCAMENTOS!$B$6:$B$505,">="&CONFIG!$B$5,LANCAMENTOS!$B$6:$B$505,"<="&TODAY()+CONFIG!$B$6)-SUMIFS(LANCAMENTOS!$F$6:$F$505,LANCAMENTOS!$I$6:$I$505,A23,LANCAMENTOS!$B$6:$B$505,">="&CONFIG!$B$5,LANCAMENTOS!$B$6:$B$505,"<="&TODAY()+CONFIG!$B$6)) | N23: =TEXT(FLUXO_DIARIO!A23,"dd/mm") -> 19/08 | O23: =FLUXO_DIARIO!G23 -> 17450 | P23: =FLUXO_DIARIO!G23 -> 17450
A24: =IF(CONFIG!A20="","",CONFIG!A20) | B24: =IF(A24="","",CONFIG!B20) | C24: =IF(A24="","",B24+SUMIFS(LANCAMENTOS!$E$6:$E$505,LANCAMENTOS!$I$6:$I$505,A24,LANCAMENTOS!$B$6:$B$505,">="&CONFIG!$B$5,LANCAMENTOS!$B$6:$B$505,"<="&TODAY(),LANCAMENTOS!$G$6:$G$505,"Realizado")-SUMIFS(LANCAMENTOS!$F$6:$F$505,LANCAMENTOS!$I$6:$I$505,A24,LANCAMENTOS!$B$6:$B$505,">="&CONFIG!$B$5,LANCAMENTOS!$B$6:$B$505,"<="&TODAY(),LANCAMENTOS!$G$6:$G$505,"Realizado")) | D24: =IF(A24="","",B24+SUMIFS(LANCAMENTOS!$E$6:$E$505,LANCAMENTOS!$I$6:$I$505,A24,LANCAMENTOS!$B$6:$B$505,">="&CONFIG!$B$5,LANCAMENTOS!$B$6:$B$505,"<="&TODAY()+CONFIG!$B$6)-SUMIFS(LANCAMENTOS!$F$6:$F$505,LANCAMENTOS!$I$6:$I$505,A24,LANCAMENTOS!$B$6:$B$505,">="&CONFIG!$B$5,LANCAMENTOS!$B$6:$B$505,"<="&TODAY()+CONFIG!$B$6)) | N24: =TEXT(FLUXO_DIARIO!A24,"dd/mm") -> 20/08 | O24: =FLUXO_DIARIO!G24 -> 16800 | P24: =FLUXO_DIARIO!G24 -> 16800
A25: =IF(CONFIG!A21="","",CONFIG!A21) | B25: =IF(A25="","",CONFIG!B21) | C25: =IF(A25="","",B25+SUMIFS(LANCAMENTOS!$E$6:$E$505,LANCAMENTOS!$I$6:$I$505,A25,LANCAMENTOS!$B$6:$B$505,">="&CONFIG!$B$5,LANCAMENTOS!$B$6:$B$505,"<="&TODAY(),LANCAMENTOS!$G$6:$G$505,"Realizado")-SUMIFS(LANCAMENTOS!$F$6:$F$505,LANCAMENTOS!$I$6:$I$505,A25,LANCAMENTOS!$B$6:$B$505,">="&CONFIG!$B$5,LANCAMENTOS!$B$6:$B$505,"<="&TODAY(),LANCAMENTOS!$G$6:$G$505,"Realizado")) | D25: =IF(A25="","",B25+SUMIFS(LANCAMENTOS!$E$6:$E$505,LANCAMENTOS!$I$6:$I$505,A25,LANCAMENTOS!$B$6:$B$505,">="&CONFIG!$B$5,LANCAMENTOS!$B$6:$B$505,"<="&TODAY()+CONFIG!$B$6)-SUMIFS(LANCAMENTOS!$F$6:$F$505,LANCAMENTOS!$I$6:$I$505,A25,LANCAMENTOS!$B$6:$B$505,">="&CONFIG!$B$5,LANCAMENTOS!$B$6:$B$505,"<="&TODAY()+CONFIG!$B$6)) | N25: =TEXT(FLUXO_DIARIO!A25,"dd/mm") -> 21/08 | O25: =FLUXO_DIARIO!G25 -> 16800 | P25: =FLUXO_DIARIO!G25 -> 16800
A26: =IF(CONFIG!A22="","",CONFIG!A22) | B26: =IF(A26="","",CONFIG!B22) | C26: =IF(A26="","",B26+SUMIFS(LANCAMENTOS!$E$6:$E$505,LANCAMENTOS!$I$6:$I$505,A26,LANCAMENTOS!$B$6:$B$505,">="&CONFIG!$B$5,LANCAMENTOS!$B$6:$B$505,"<="&TODAY(),LANCAMENTOS!$G$6:$G$505,"Realizado")-SUMIFS(LANCAMENTOS!$F$6:$F$505,LANCAMENTOS!$I$6:$I$505,A26,LANCAMENTOS!$B$6:$B$505,">="&CONFIG!$B$5,LANCAMENTOS!$B$6:$B$505,"<="&TODAY(),LANCAMENTOS!$G$6:$G$505,"Realizado")) | D26: =IF(A26="","",B26+SUMIFS(LANCAMENTOS!$E$6:$E$505,LANCAMENTOS!$I$6:$I$505,A26,LANCAMENTOS!$B$6:$B$505,">="&CONFIG!$B$5,LANCAMENTOS!$B$6:$B$505,"<="&TODAY()+CONFIG!$B$6)-SUMIFS(LANCAMENTOS!$F$6:$F$505,LANCAMENTOS!$I$6:$I$505,A26,LANCAMENTOS!$B$6:$B$505,">="&CONFIG!$B$5,LANCAMENTOS!$B$6:$B$505,"<="&TODAY()+CONFIG!$B$6)) | N26: =TEXT(FLUXO_DIARIO!A26,"dd/mm") -> 22/08 | O26: =FLUXO_DIARIO!G26 -> 16800 | P26: =FLUXO_DIARIO!G26 -> 16800
A27: =IF(CONFIG!A23="","",CONFIG!A23) | B27: =IF(A27="","",CONFIG!B23) | C27: =IF(A27="","",B27+SUMIFS(LANCAMENTOS!$E$6:$E$505,LANCAMENTOS!$I$6:$I$505,A27,LANCAMENTOS!$B$6:$B$505,">="&CONFIG!$B$5,LANCAMENTOS!$B$6:$B$505,"<="&TODAY(),LANCAMENTOS!$G$6:$G$505,"Realizado")-SUMIFS(LANCAMENTOS!$F$6:$F$505,LANCAMENTOS!$I$6:$I$505,A27,LANCAMENTOS!$B$6:$B$505,">="&CONFIG!$B$5,LANCAMENTOS!$B$6:$B$505,"<="&TODAY(),LANCAMENTOS!$G$6:$G$505,"Realizado")) | D27: =IF(A27="","",B27+SUMIFS(LANCAMENTOS!$E$6:$E$505,LANCAMENTOS!$I$6:$I$505,A27,LANCAMENTOS!$B$6:$B$505,">="&CONFIG!$B$5,LANCAMENTOS!$B$6:$B$505,"<="&TODAY()+CONFIG!$B$6)-SUMIFS(LANCAMENTOS!$F$6:$F$505,LANCAMENTOS!$I$6:$I$505,A27,LANCAMENTOS!$B$6:$B$505,">="&CONFIG!$B$5,LANCAMENTOS!$B$6:$B$505,"<="&TODAY()+CONFIG!$B$6)) | N27: =TEXT(FLUXO_DIARIO!A27,"dd/mm") -> 23/08 | O27: =FLUXO_DIARIO!G27 -> 16800 | P27: =FLUXO_DIARIO!G27 -> 16800
A28: =IF(CONFIG!A24="","",CONFIG!A24) | B28: =IF(A28="","",CONFIG!B24) | C28: =IF(A28="","",B28+SUMIFS(LANCAMENTOS!$E$6:$E$505,LANCAMENTOS!$I$6:$I$505,A28,LANCAMENTOS!$B$6:$B$505,">="&CONFIG!$B$5,LANCAMENTOS!$B$6:$B$505,"<="&TODAY(),LANCAMENTOS!$G$6:$G$505,"Realizado")-SUMIFS(LANCAMENTOS!$F$6:$F$505,LANCAMENTOS!$I$6:$I$505,A28,LANCAMENTOS!$B$6:$B$505,">="&CONFIG!$B$5,LANCAMENTOS!$B$6:$B$505,"<="&TODAY(),LANCAMENTOS!$G$6:$G$505,"Realizado")) | D28: =IF(A28="","",B28+SUMIFS(LANCAMENTOS!$E$6:$E$505,LANCAMENTOS!$I$6:$I$505,A28,LANCAMENTOS!$B$6:$B$505,">="&CONFIG!$B$5,LANCAMENTOS!$B$6:$B$505,"<="&TODAY()+CONFIG!$B$6)-SUMIFS(LANCAMENTOS!$F$6:$F$505,LANCAMENTOS!$I$6:$I$505,A28,LANCAMENTOS!$B$6:$B$505,">="&CONFIG!$B$5,LANCAMENTOS!$B$6:$B$505,"<="&TODAY()+CONFIG!$B$6)) | N28: =TEXT(FLUXO_DIARIO!A28,"dd/mm") -> 24/08 | O28: =FLUXO_DIARIO!G28 -> 16800 | P28: =FLUXO_DIARIO!G28 -> 16800
A29: =IF(CONFIG!A25="","",CONFIG!A25) | B29: =IF(A29="","",CONFIG!B25) | C29: =IF(A29="","",B29+SUMIFS(LANCAMENTOS!$E$6:$E$505,LANCAMENTOS!$I$6:$I$505,A29,LANCAMENTOS!$B$6:$B$505,">="&CONFIG!$B$5,LANCAMENTOS!$B$6:$B$505,"<="&TODAY(),LANCAMENTOS!$G$6:$G$505,"Realizado")-SUMIFS(LANCAMENTOS!$F$6:$F$505,LANCAMENTOS!$I$6:$I$505,A29,LANCAMENTOS!$B$6:$B$505,">="&CONFIG!$B$5,LANCAMENTOS!$B$6:$B$505,"<="&TODAY(),LANCAMENTOS!$G$6:$G$505,"Realizado")) | D29: =IF(A29="","",B29+SUMIFS(LANCAMENTOS!$E$6:$E$505,LANCAMENTOS!$I$6:$I$505,A29,LANCAMENTOS!$B$6:$B$505,">="&CONFIG!$B$5,LANCAMENTOS!$B$6:$B$505,"<="&TODAY()+CONFIG!$B$6)-SUMIFS(LANCAMENTOS!$F$6:$F$505,LANCAMENTOS!$I$6:$I$505,A29,LANCAMENTOS!$B$6:$B$505,">="&CONFIG!$B$5,LANCAMENTOS!$B$6:$B$505,"<="&TODAY()+CONFIG!$B$6)) | N29: =TEXT(FLUXO_DIARIO!A29,"dd/mm") -> 25/08 | O29: =FLUXO_DIARIO!G29 -> 20000 | P29: =FLUXO_DIARIO!G29 -> 20000
... A33: =IF(CONFIG!A29="","",CONFIG!A29) | B33: =IF(A33="","",CONFIG!B29) | C33: =IF(A33="","",B33+SUMIFS(LANCAMENTOS!$E$6:$E$505,LANCAMENTOS!$I$6:$I$505,A33,LANCAMENTOS!$B$6:$B$505,">="&CONFIG!$B$5,LANCAMENTOS!$B$6:$B$505,"<="&TODAY(),LANCAMENTOS!$G$6:$G$505,"Realizado")-SUMIFS(LANCAMENTOS!$F$6:$F$505,LANCAMENTOS!$I$6:$I$505,A33,LANCAMENTOS!$B$6:$B$505,">="&CONFIG!$B$5,LANCAMENTOS!$B$6:$B$505,"<="&TODAY(),LANCAMENTOS!$G$6:$G$505,"Realizado")) | D33: =IF(A33="","",B33+SUMIFS(LANCAMENTOS!$E$6:$E$505,LANCAMENTOS!$I$6:$I$505,A33,LANCAMENTOS!$B$6:$B$505,">="&CONFIG!$B$5,LANCAMENTOS!$B$6:$B$505,"<="&TODAY()+CONFIG!$B$6)-SUMIFS(LANCAMENTOS!$F$6:$F$505,LANCAMENTOS!$I$6:$I$505,A33,LANCAMENTOS!$B$6:$B$505,">="&CONFIG!$B$5,LANCAMENTOS!$B$6:$B$505,"<="&TODAY()+CONFIG!$B$6)) | N33: =TEXT(FLUXO_DIARIO!A33,"dd/mm") -> 29/08 | O33: =FLUXO_DIARIO!G33 -> 20000 | P33: =FLUXO_DIARIO!G33 -> 20000
N34: =TEXT(FLUXO_DIARIO!A34,"dd/mm") -> 30/08 | O34: =FLUXO_DIARIO!G34 -> 20000 | P34: =FLUXO_DIARIO!G34 -> 20000
N35: =TEXT(FLUXO_DIARIO!A35,"dd/mm") -> 31/08 | O35: =FLUXO_DIARIO!G35 -> 20000 | P35: =FLUXO_DIARIO!G35 -> 20000
N36: =TEXT(FLUXO_DIARIO!A36,"dd/mm") -> 01/09 | O36: =FLUXO_DIARIO!G36 -> 17800 | P36: =FLUXO_DIARIO!G36 -> 17800
N37: =TEXT(FLUXO_DIARIO!A37,"dd/mm") -> 02/09 | O37: =FLUXO_DIARIO!G37 -> 17800 | P37: =FLUXO_DIARIO!G37 -> 17800
N38: =TEXT(FLUXO_DIARIO!A38,"dd/mm") -> 03/09 | O38: =FLUXO_DIARIO!G38 -> 17800 | P38: =FLUXO_DIARIO!G38 -> 17800
N39: =TEXT(FLUXO_DIARIO!A39,"dd/mm") -> 04/09 | O39: =FLUXO_DIARIO!G39 -> 17800 | P39: =FLUXO_DIARIO!G39 -> 17800
N40: =TEXT(FLUXO_DIARIO!A40,"dd/mm") -> 05/09 | O40: =FLUXO_DIARIO!G40 -> 17800 | P40: =FLUXO_DIARIO!G40 -> 17800
N41: =TEXT(FLUXO_DIARIO!A41,"dd/mm") -> 06/09 | O41: =FLUXO_DIARIO!G41 -> 17800 | P41: =FLUXO_DIARIO!G41 -> 17800
N42: =TEXT(FLUXO_DIARIO!A42,"dd/mm") -> 07/09 | O42: =FLUXO_DIARIO!G42 -> 17800 | P42: =FLUXO_DIARIO!G42 -> 17800
N43: =TEXT(FLUXO_DIARIO!A43,"dd/mm") -> 08/09 | O43: =FLUXO_DIARIO!G43 -> 17800 | P43: =FLUXO_DIARIO!G43 -> 17800
N44: =TEXT(FLUXO_DIARIO!A44,"dd/mm") -> 09/09 | O44: =FLUXO_DIARIO!G44 -> 17800 | P44: =FLUXO_DIARIO!G44 -> 17800
...

Sheet INICIO
A1: FLUXO DE CAIXA — Controle Real e Projetado
A4: Objetivo e lógica do modelo
A5: Finalidade | B5: Controlar o dinheiro efetivamente disponível e antecipar falta de caixa com base em recebimentos e pagamentos previstos.
A6: Unidade por linha | B6: Cada linha em LANCAMENTOS representa um movimento de caixa, realizado ou previsto.
A7: Saldo disponível hoje | B7: Saldo inicial consolidado + entradas realizadas − saídas realizadas até hoje.
A8: Saldo projetado | B8: Saldo inicial + todos os movimentos realizados e previstos até cada data futura.
A9: Regra importante | B9: Uma linha deve ter valor em ENTRADA ou SAÍDA, nunca nos dois campos ao mesmo tempo.
A10: Previsões vencidas | B10: Movimentos com status Previsto e data anterior a hoje são sinalizados; atualize a data esperada ou marque como Realizado.
A11: Data-base | B11: Os saldos iniciais em CONFIG representam o saldo no início do dia da Data-base. Lance movimentos a partir dessa data.
A13: Como usar
A14: 1 | B14: Em CONFIG, ajuste a Data-base, o horizonte de projeção, as contas e seus saldos iniciais.
A15: 2 | B15: Em LANCAMENTOS, registre Data, Descrição, Categoria, Entrada/Saída, Status, Forma de pagamento e Conta.
A16: 3 | B16: Use Status = Realizado quando o dinheiro já entrou/saiu; use Previsto para valores futuros.
A17: 4 | B17: Consulte DASHBOARD para saldo disponível, projeção, menor saldo e primeira possível ruptura de caixa.
A18: 5 | B18: Revise AUDITORIA para corrigir erros de preenchimento e previsões vencidas.
A20: Pesquisa aplicada ao desenho (data de corte: 11/08/2026)
A21: Fonte | B21: Aplicação no modelo | C21: URL
A22: business.gov.au — Cash flow statement | B22: Usar previsões de receitas e custos futuros para verificar se haverá caixa suficiente para cobrir despesas. | C22: https://business.gov.au/finance/cash-flow/set-up-a-cash-flow-statement
A23: UK business.gov — Manage cash flow | B23: Considerar entradas, saídas e datas esperadas de pagamento/recebimento para identificar gaps de caixa. | C23: https://www.business.gov.uk/export-from-uk/learn/categories/funding-financing-and-getting-paid/manage-cash-flow/how-avoid-cashflow-challenges-when-exporting/
A24: ACCA — Example of a cashflow | B24: A visão de caixa deve permitir leitura das necessidades de dinheiro em base diária e periódica. | C24: https://www.accaglobal.com/gb/en/business-finance/business-plans/example-cashflow.html
A26: Legenda visual
A27: Azul | B27: Entrada manual / célula que o usuário pode alterar
A28: Preto | B28: Fórmula e cálculo dentro da mesma aba
A29: Verde | B29: Fórmula com referência a outra aba
A30: Amarelo / Vermelho claro | B30: Atenção / erro de preenchimento ou risco de falta de caixa

Sheet LANCAMENTOS
A1: LANÇAMENTOS DE CAIXA
A3: Preencha somente as colunas azuis. Fórmulas calculam movimento líquido, saldos por data e validação.
A5: ID | B5: Data | C5: Descrição | D5: Categoria | E5: Entrada (R$) | F5: Saída (R$) | G5: Status | H5: Forma de pagamento | I5: Conta bancária / caixa | J5: Observação | K5: Movimento líquido (R$) | L5: Saldo realizado no dia (R$) | M5: Saldo projetado no dia (R$) | N5: Mês | O5: Validação
A6: 1 | B6: 46235 | C6: Recebimento cliente Alfa | D6: Recebimentos de clientes | E6: 4500 | G6: Realizado | H6: PIX | I6: Conta Corrente | J6: Exemplo fictício | K6: =IF(B6="","",SUM(E6)-SUM(F6)) -> 4500 | L6: =IF(B6="","",CONFIG!$B$7+SUMIFS($E$6:$E$505,$B$6:$B$505,">="&CONFIG!$B$5,$B$6:$B$505,"<="&B6,$G$6:$G$505,"Realizado")-SUMIFS($F$6:$F$505,$B$6:$B$505,">="&CONFIG!$B$5,$B$6:$B$505,"<="&B6,$G$6:$G$505,"Realizado")) -> 23500 | M6: =IF(B6="","",CONFIG!$B$7+SUMIFS($E$6:$E$505,$B$6:$B$505,">="&CONFIG!$B$5,$B$6:$B$505,"<="&B6)-SUMIFS($F$6:$F$505,$B$6:$B$505,">="&CONFIG!$B$5,$B$6:$B$505,"<="&B6)) -> 23500 | N6: =IF(B6="","",TEXT(B6,"mmm/yyyy")) -> ago/yyyy | O6: =IF(B6="","",IF(OR(SUM(E6)<0,SUM(F6)<0),"ERRO: valor negativo",IF(AND(SUM(E6)>0,SUM(F6)>0),"ERRO: entrada e saída",IF(AND(SUM(E6)=0,SUM(F6)=0),"ERRO: informe valor",IF(C6="","ERRO: descrição",IF(D6="","ERRO: categoria",IF(G6="","ERRO: status",IF(I6="","ERRO: conta",IF(AND(G6="Previsto",B6<TODAY()),"ATENÇÃO: previsão vencida","OK"))))))))) -> OK
A7: 2 | B7: 46237 | C7: Aluguel do escritório | D7: Aluguel | F7: 2200 | G7: Realizado | H7: Transferência | I7: Conta Corrente | J7: Exemplo fictício | K7: =IF(B7="","",SUM(E7)-SUM(F7)) -> -2200 | L7: =IF(B7="","",CONFIG!$B$7+SUMIFS($E$6:$E$505,$B$6:$B$505,">="&CONFIG!$B$5,$B$6:$B$505,"<="&B7,$G$6:$G$505,"Realizado")-SUMIFS($F$6:$F$505,$B$6:$B$505,">="&CONFIG!$B$5,$B$6:$B$505,"<="&B7,$G$6:$G$505,"Realizado")) -> 21300 | M7: =IF(B7="","",CONFIG!$B$7+SUMIFS($E$6:$E$505,$B$6:$B$505,">="&CONFIG!$B$5,$B$6:$B$505,"<="&B7)-SUMIFS($F$6:$F$505,$B$6:$B$505,">="&CONFIG!$B$5,$B$6:$B$505,"<="&B7)) -> 21300 | N7: =IF(B7="","",TEXT(B7,"mmm/yyyy")) -> ago/yyyy | O7: =IF(B7="","",IF(OR(SUM(E7)<0,SUM(F7)<0),"ERRO: valor negativo",IF(AND(SUM(E7)>0,SUM(F7)>0),"ERRO: entrada e saída",IF(AND(SUM(E7)=0,SUM(F7)=0),"ERRO: informe valor",IF(C7="","ERRO: descrição",IF(D7="","ERRO: categoria",IF(G7="","ERRO: status",IF(I7="","ERRO: conta",IF(AND(G7="Previsto",B7<TODAY()),"ATENÇÃO: previsão vencida","OK"))))))))) -> OK
A8: 3 | B8: 46239 | C8: Venda à vista | D8: Vendas | E8: 1800 | G8: Realizado | H8: Cartão de débito | I8: Conta Corrente | J8: Exemplo fictício | K8: =IF(B8="","",SUM(E8)-SUM(F8)) -> 1800 | L8: =IF(B8="","",CONFIG!$B$7+SUMIFS($E$6:$E$505,$B$6:$B$505,">="&CONFIG!$B$5,$B$6:$B$505,"<="&B8,$G$6:$G$505,"Realizado")-SUMIFS($F$6:$F$505,$B$6:$B$505,">="&CONFIG!$B$5,$B$6:$B$505,"<="&B8,$G$6:$G$505,"Realizado")) -> 23100 | M8: =IF(B8="","",CONFIG!$B$7+SUMIFS($E$6:$E$505,$B$6:$B$505,">="&CONFIG!$B$5,$B$6:$B$505,"<="&B8)-SUMIFS($F$6:$F$505,$B$6:$B$505,">="&CONFIG!$B$5,$B$6:$B$505,"<="&B8)) -> 23100 | N8: =IF(B8="","",TEXT(B8,"mmm/yyyy")) -> ago/yyyy | O8: =IF(B8="","",IF(OR(SUM(E8)<0,SUM(F8)<0),"ERRO: valor negativo",IF(AND(SUM(E8)>0,SUM(F8)>0),"ERRO: entrada e saída",IF(AND(SUM(E8)=0,SUM(F8)=0),"ERRO: informe valor",IF(C8="","ERRO: descrição",IF(D8="","ERRO: categoria",IF(G8="","ERRO: status",IF(I8="","ERRO: conta",IF(AND(G8="Previsto",B8<TODAY()),"ATENÇÃO: previsão vencida","OK"))))))))) -> OK
A9: 4 | B9: 46242 | C9: Compra de materiais | D9: Compras / Estoque | F9: 1250 | G9: Realizado | H9: PIX | I9: Conta Corrente | J9: Exemplo fictício | K9: =IF(B9="","",SUM(E9)-SUM(F9)) -> -1250 | L9: =IF(B9="","",CONFIG!$B$7+SUMIFS($E$6:$E$505,$B$6:$B$505,">="&CONFIG!$B$5,$B$6:$B$505,"<="&B9,$G$6:$G$505,"Realizado")-SUMIFS($F$6:$F$505,$B$6:$B$505,">="&CONFIG!$B$5,$B$6:$B$505,"<="&B9,$G$6:$G$505,"Realizado")) -> 21850 | M9: =IF(B9="","",CONFIG!$B$7+SUMIFS($E$6:$E$505,$B$6:$B$505,">="&CONFIG!$B$5,$B$6:$B$505,"<="&B9)-SUMIFS($F$6:$F$505,$B$6:$B$505,">="&CONFIG!$B$5,$B$6:$B$505,"<="&B9)) -> 21850 | N9: =IF(B9="","",TEXT(B9,"mmm/yyyy")) -> ago/yyyy | O9: =IF(B9="","",IF(OR(SUM(E9)<0,SUM(F9)<0),"ERRO: valor negativo",IF(AND(SUM(E9)>0,SUM(F9)>0),"ERRO: entrada e saída",IF(AND(SUM(E9)=0,SUM(F9)=0),"ERRO: informe valor",IF(C9="","ERRO: descrição",IF(D9="","ERRO: categoria",IF(G9="","ERRO: status",IF(I9="","ERRO: conta",IF(AND(G9="Previsto",B9<TODAY()),"ATENÇÃO: previsão vencida","OK"))))))))) -> OK
A10: 5 | B10: 46246 | C10: Recebimento previsto cliente Beta | D10: Recebimentos de clientes | E10: 6500 | G10: Previsto | H10: Boleto | I10: Conta Corrente | J10: Exemplo fictício | K10: =IF(B10="","",SUM(E10)-SUM(F10)) -> 6500 | L10: =IF(B10="","",CONFIG!$B$7+SUMIFS($E$6:$E$505,$B$6:$B$505,">="&CONFIG!$B$5,$B$6:$B$505,"<="&B10,$G$6:$G$505,"Realizado")-SUMIFS($F$6:$F$505,$B$6:$B$505,">="&CONFIG!$B$5,$B$6:$B$505,"<="&B10,$G$6:$G$505,"Realizado")) -> 21850 | M10: =IF(B10="","",CONFIG!$B$7+SUMIFS($E$6:$E$505,$B$6:$B$505,">="&CONFIG!$B$5,$B$6:$B$505,"<="&B10)-SUMIFS($F$6:$F$505,$B$6:$B$505,">="&CONFIG!$B$5,$B$6:$B$505,"<="&B10)) -> 28350 | N10: =IF(B10="","",TEXT(B10,"mmm/yyyy")) -> ago/yyyy | O10: =IF(B10="","",IF(OR(SUM(E10)<0,SUM(F10)<0),"ERRO: valor negativo",IF(AND(SUM(E10)>0,SUM(F10)>0),"ERRO: entrada e saída",IF(AND(SUM(E10)=0,SUM(F10)=0),"ERRO: informe valor",IF(C10="","ERRO: descrição",IF(D10="","ERRO: categoria",IF(G10="","ERRO: status",IF(I10="","ERRO: conta",IF(AND(G10="Previsto",B10<TODAY()),"ATENÇÃO: previsão vencida","OK"))))))))) -> OK
A11: 6 | B11: 46249 | C11: Folha de pagamento | D11: Folha de pagamento | F11: 7800 | G11: Previsto | H11: Transferência | I11: Conta Corrente | J11: Exemplo fictício | K11: =IF(B11="","",SUM(E11)-SUM(F11)) -> -7800 | L11: =IF(B11="","",CONFIG!$B$7+SUMIFS($E$6:$E$505,$B$6:$B$505,">="&CONFIG!$B$5,$B$6:$B$505,"<="&B11,$G$6:$G$505,"Realizado")-SUMIFS($F$6:$F$505,$B$6:$B$505,">="&CONFIG!$B$5,$B$6:$B$505,"<="&B11,$G$6:$G$505,"Realizado")) -> 21850 | M11: =IF(B11="","",CONFIG!$B$7+SUMIFS($E$6:$E$505,$B$6:$B$505,">="&CONFIG!$B$5,$B$6:$B$505,"<="&B11)-SUMIFS($F$6:$F$505,$B$6:$B$505,">="&CONFIG!$B$5,$B$6:$B$505,"<="&B11)) -> 20550 | N11: =IF(B11="","",TEXT(B11,"mmm/yyyy")) -> ago/yyyy | O11: =IF(B11="","",IF(OR(SUM(E11)<0,SUM(F11)<0),"ERRO: valor negativo",IF(AND(SUM(E11)>0,SUM(F11)>0),"ERRO: entrada e saída",IF(AND(SUM(E11)=0,SUM(F11)=0),"ERRO: informe valor",IF(C11="","ERRO: descrição",IF(D11="","ERRO: categoria",IF(G11="","ERRO: status",IF(I11="","ERRO: conta",IF(AND(G11="Previsto",B11<TODAY()),"ATENÇÃO: previsão vencida","OK"))))))))) -> OK
A12: 7 | B12: 46252 | C12: Impostos do mês | D12: Impostos e taxas | F12: 3100 | G12: Previsto | H12: Boleto | I12: Conta Corrente | J12: Exemplo fictício | K12: =IF(B12="","",SUM(E12)-SUM(F12)) -> -3100 | L12: =IF(B12="","",CONFIG!$B$7+SUMIFS($E$6:$E$505,$B$6:$B$505,">="&CONFIG!$B$5,$B$6:$B$505,"<="&B12,$G$6:$G$505,"Realizado")-SUMIFS($F$6:$F$505,$B$6:$B$505,">="&CONFIG!$B$5,$B$6:$B$505,"<="&B12,$G$6:$G$505,"Realizado")) -> 21850 | M12: =IF(B12="","",CONFIG!$B$7+SUMIFS($E$6:$E$505,$B$6:$B$505,">="&CONFIG!$B$5,$B$6:$B$505,"<="&B12)-SUMIFS($F$6:$F$505,$B$6:$B$505,">="&CONFIG!$B$5,$B$6:$B$505,"<="&B12)) -> 17450 | N12: =IF(B12="","",TEXT(B12,"mmm/yyyy")) -> ago/yyyy | O12: =IF(B12="","",IF(OR(SUM(E12)<0,SUM(F12)<0),"ERRO: valor negativo",IF(AND(SUM(E12)>0,SUM(F12)>0),"ERRO: entrada e saída",IF(AND(SUM(E12)=0,SUM(F12)=0),"ERRO: informe valor",IF(C12="","ERRO: descrição",IF(D12="","ERRO: categoria",IF(G12="","ERRO: status",IF(I12="","ERRO: conta",IF(AND(G12="Previsto",B12<TODAY()),"ATENÇÃO: previsão vencida","OK"))))))))) -> OK
A13: 8 | B13: 46254 | C13: Assinaturas de software | D13: Software e assinaturas | F13: 650 | G13: Previsto | H13: Cartão de crédito | I13: Conta Corrente | J13: Exemplo fictício | K13: =IF(B13="","",SUM(E13)-SUM(F13)) -> -650 | L13: =IF(B13="","",CONFIG!$B$7+SUMIFS($E$6:$E$505,$B$6:$B$505,">="&CONFIG!$B$5,$B$6:$B$505,"<="&B13,$G$6:$G$505,"Realizado")-SUMIFS($F$6:$F$505,$B$6:$B$505,">="&CONFIG!$B$5,$B$6:$B$505,"<="&B13,$G$6:$G$505,"Realizado")) -> 21850 | M13: =IF(B13="","",CONFIG!$B$7+SUMIFS($E$6:$E$505,$B$6:$B$505,">="&CONFIG!$B$5,$B$6:$B$505,"<="&B13)-SUMIFS($F$6:$F$505,$B$6:$B$505,">="&CONFIG!$B$5,$B$6:$B$505,"<="&B13)) -> 16800 | N13: =IF(B13="","",TEXT(B13,"mmm/yyyy")) -> ago/yyyy | O13: =IF(B13="","",IF(OR(SUM(E13)<0,SUM(F13)<0),"ERRO: valor negativo",IF(AND(SUM(E13)>0,SUM(F13)>0),"ERRO: entrada e saída",IF(AND(SUM(E13)=0,SUM(F13)=0),"ERRO: informe valor",IF(C13="","ERRO: descrição",IF(D13="","ERRO: categoria",IF(G13="","ERRO: status",IF(I13="","ERRO: conta",IF(AND(G13="Previsto",B13<TODAY()),"ATENÇÃO: previsão vencida","OK"))))))))) -> OK
A14: 9 | B14: 46259 | C14: Prestação de serviços | D14: Serviços | E14: 3200 | G14: Previsto | H14: PIX | I14: Conta Corrente | J14: Exemplo fictício | K14: =IF(B14="","",SUM(E14)-SUM(F14)) -> 3200 | L14: =IF(B14="","",CONFIG!$B$7+SUMIFS($E$6:$E$505,$B$6:$B$505,">="&CONFIG!$B$5,$B$6:$B$505,"<="&B14,$G$6:$G$505,"Realizado")-SUMIFS($F$6:$F$505,$B$6:$B$505,">="&CONFIG!$B$5,$B$6:$B$505,"<="&B14,$G$6:$G$505,"Realizado")) -> 21850 | M14: =IF(B14="","",CONFIG!$B$7+SUMIFS($E$6:$E$505,$B$6:$B$505,">="&CONFIG!$B$5,$B$6:$B$505,"<="&B14)-SUMIFS($F$6:$F$505,$B$6:$B$505,">="&CONFIG!$B$5,$B$6:$B$505,"<="&B14)) -> 20000 | N14: =IF(B14="","",TEXT(B14,"mmm/yyyy")) -> ago/yyyy | O14: =IF(B14="","",IF(OR(SUM(E14)<0,SUM(F14)<0),"ERRO: valor negativo",IF(AND(SUM(E14)>0,SUM(F14)>0),"ERRO: entrada e saída",IF(AND(SUM(E14)=0,SUM(F14)=0),"ERRO: informe valor",IF(C14="","ERRO: descrição",IF(D14="","ERRO: categoria",IF(G14="","ERRO: status",IF(I14="","ERRO: conta",IF(AND(G14="Previsto",B14<TODAY()),"ATENÇÃO: previsão vencida","OK"))))))))) -> OK
A15: 10 | B15: 46266 | C15: Aluguel do escritório | D15: Aluguel | F15: 2200 | G15: Previsto | H15: Transferência | I15: Conta Corrente | J15: Exemplo fictício | K15: =IF(B15="","",SUM(E15)-SUM(F15)) -> -2200 | L15: =IF(B15="","",CONFIG!$B$7+SUMIFS($E$6:$E$505,$B$6:$B$505,">="&CONFIG!$B$5,$B$6:$B$505,"<="&B15,$G$6:$G$505,"Realizado")-SUMIFS($F$6:$F$505,$B$6:$B$505,">="&CONFIG!$B$5,$B$6:$B$505,"<="&B15,$G$6:$G$505,"Realizado")) -> 21850 | M15: =IF(B15="","",CONFIG!$B$7+SUMIFS($E$6:$E$505,$B$6:$B$505,">="&CONFIG!$B$5,$B$6:$B$505,"<="&B15)-SUMIFS($F$6:$F$505,$B$6:$B$505,">="&CONFIG!$B$5,$B$6:$B$505,"<="&B15)) -> 17800 | N15: =IF(B15="","",TEXT(B15,"mmm/yyyy")) -> set/yyyy | O15: =IF(B15="","",IF(OR(SUM(E15)<0,SUM(F15)<0),"ERRO: valor negativo",IF(AND(SUM(E15)>0,SUM(F15)>0),"ERRO: entrada e saída",IF(AND(SUM(E15)=0,SUM(F15)=0),"ERRO: informe valor",IF(C15="","ERRO: descrição",IF(D15="","ERRO: categoria",IF(G15="","ERRO: status",IF(I15="","ERRO: conta",IF(AND(G15="Previsto",B15<TODAY()),"ATENÇÃO: previsão vencida","OK"))))))))) -> OK
K16: =IF(B16="","",SUM(E16)-SUM(F16)) | L16: =IF(B16="","",CONFIG!$B$7+SUMIFS($E$6:$E$505,$B$6:$B$505,">="&CONFIG!$B$5,$B$6:$B$505,"<="&B16,$G$6:$G$505,"Realizado")-SUMIFS($F$6:$F$505,$B$6:$B$505,">="&CONFIG!$B$5,$B$6:$B$505,"<="&B16,$G$6:$G$505,"Realizado")) | M16: =IF(B16="","",CONFIG!$B$7+SUMIFS($E$6:$E$505,$B$6:$B$505,">="&CONFIG!$B$5,$B$6:$B$505,"<="&B16)-SUMIFS($F$6:$F$505,$B$6:$B$505,">="&CONFIG!$B$5,$B$6:$B$505,"<="&B16)) | N16: =IF(B16="","",TEXT(B16,"mmm/yyyy")) | O16: =IF(B16="","",IF(OR(SUM(E16)<0,SUM(F16)<0),"ERRO: valor negativo",IF(AND(SUM(E16)>0,SUM(F16)>0),"ERRO: entrada e saída",IF(AND(SUM(E16)=0,SUM(F16)=0),"ERRO: informe valor",IF(C16="","ERRO: descrição",IF(D16="","ERRO: categoria",IF(G16="","ERRO: status",IF(I16="","ERRO: conta",IF(AND(G16="Previsto",B16<TODAY()),"ATENÇÃO: previsão vencida","OK")))))))))
K17: =IF(B17="","",SUM(E17)-SUM(F17)) | L17: =IF(B17="","",CONFIG!$B$7+SUMIFS($E$6:$E$505,$B$6:$B$505,">="&CONFIG!$B$5,$B$6:$B$505,"<="&B17,$G$6:$G$505,"Realizado")-SUMIFS($F$6:$F$505,$B$6:$B$505,">="&CONFIG!$B$5,$B$6:$B$505,"<="&B17,$G$6:$G$505,"Realizado")) | M17: =IF(B17="","",CONFIG!$B$7+SUMIFS($E$6:$E$505,$B$6:$B$505,">="&CONFIG!$B$5,$B$6:$B$505,"<="&B17)-SUMIFS($F$6:$F$505,$B$6:$B$505,">="&CONFIG!$B$5,$B$6:$B$505,"<="&B17)) | N17: =IF(B17="","",TEXT(B17,"mmm/yyyy")) | O17: =IF(B17="","",IF(OR(SUM(E17)<0,SUM(F17)<0),"ERRO: valor negativo",IF(AND(SUM(E17)>0,SUM(F17)>0),"ERRO: entrada e saída",IF(AND(SUM(E17)=0,SUM(F17)=0),"ERRO: informe valor",IF(C17="","ERRO: descrição",IF(D17="","ERRO: categoria",IF(G17="","ERRO: status",IF(I17="","ERRO: conta",IF(AND(G17="Previsto",B17<TODAY()),"ATENÇÃO: previsão vencida","OK")))))))))
K18: =IF(B18="","",SUM(E18)-SUM(F18)) | L18: =IF(B18="","",CONFIG!$B$7+SUMIFS($E$6:$E$505,$B$6:$B$505,">="&CONFIG!$B$5,$B$6:$B$505,"<="&B18,$G$6:$G$505,"Realizado")-SUMIFS($F$6:$F$505,$B$6:$B$505,">="&CONFIG!$B$5,$B$6:$B$505,"<="&B18,$G$6:$G$505,"Realizado")) | M18: =IF(B18="","",CONFIG!$B$7+SUMIFS($E$6:$E$505,$B$6:$B$505,">="&CONFIG!$B$5,$B$6:$B$505,"<="&B18)-SUMIFS($F$6:$F$505,$B$6:$B$505,">="&CONFIG!$B$5,$B$6:$B$505,"<="&B18)) | N18: =IF(B18="","",TEXT(B18,"mmm/yyyy")) | O18: =IF(B18="","",IF(OR(SUM(E18)<0,SUM(F18)<0),"ERRO: valor negativo",IF(AND(SUM(E18)>0,SUM(F18)>0),"ERRO: entrada e saída",IF(AND(SUM(E18)=0,SUM(F18)=0),"ERRO: informe valor",IF(C18="","ERRO: descrição",IF(D18="","ERRO: categoria",IF(G18="","ERRO: status",IF(I18="","ERRO: conta",IF(AND(G18="Previsto",B18<TODAY()),"ATENÇÃO: previsão vencida","OK")))))))))
K19: =IF(B19="","",SUM(E19)-SUM(F19)) | L19: =IF(B19="","",CONFIG!$B$7+SUMIFS($E$6:$E$505,$B$6:$B$505,">="&CONFIG!$B$5,$B$6:$B$505,"<="&B19,$G$6:$G$505,"Realizado")-SUMIFS($F$6:$F$505,$B$6:$B$505,">="&CONFIG!$B$5,$B$6:$B$505,"<="&B19,$G$6:$G$505,"Realizado")) | M19: =IF(B19="","",CONFIG!$B$7+SUMIFS($E$6:$E$505,$B$6:$B$505,">="&CONFIG!$B$5,$B$6:$B$505,"<="&B19)-SUMIFS($F$6:$F$505,$B$6:$B$505,">="&CONFIG!$B$5,$B$6:$B$505,"<="&B19)) | N19: =IF(B19="","",TEXT(B19,"mmm/yyyy")) | O19: =IF(B19="","",IF(OR(SUM(E19)<0,SUM(F19)<0),"ERRO: valor negativo",IF(AND(SUM(E19)>0,SUM(F19)>0),"ERRO: entrada e saída",IF(AND(SUM(E19)=0,SUM(F19)=0),"ERRO: informe valor",IF(C19="","ERRO: descrição",IF(D19="","ERRO: categoria",IF(G19="","ERRO: status",IF(I19="","ERRO: conta",IF(AND(G19="Previsto",B19<TODAY()),"ATENÇÃO: previsão vencida","OK")))))))))
K20: =IF(B20="","",SUM(E20)-SUM(F20)) | L20: =IF(B20="","",CONFIG!$B$7+SUMIFS($E$6:$E$505,$B$6:$B$505,">="&CONFIG!$B$5,$B$6:$B$505,"<="&B20,$G$6:$G$505,"Realizado")-SUMIFS($F$6:$F$505,$B$6:$B$505,">="&CONFIG!$B$5,$B$6:$B$505,"<="&B20,$G$6:$G$505,"Realizado")) | M20: =IF(B20="","",CONFIG!$B$7+SUMIFS($E$6:$E$505,$B$6:$B$505,">="&CONFIG!$B$5,$B$6:$B$505,"<="&B20)-SUMIFS($F$6:$F$505,$B$6:$B$505,">="&CONFIG!$B$5,$B$6:$B$505,"<="&B20)) | N20: =IF(B20="","",TEXT(B20,"mmm/yyyy")) | O20: =IF(B20="","",IF(OR(SUM(E20)<0,SUM(F20)<0),"ERRO: valor negativo",IF(AND(SUM(E20)>0,SUM(F20)>0),"ERRO: entrada e saída",IF(AND(SUM(E20)=0,SUM(F20)=0),"ERRO: informe valor",IF(C20="","ERRO: descrição",IF(D20="","ERRO: categoria",IF(G20="","ERRO: status",IF(I20="","ERRO: conta",IF(AND(G20="Previsto",B20<TODAY()),"ATENÇÃO: previsão vencida","OK")))))))))
K21: =IF(B21="","",SUM(E21)-SUM(F21)) | L21: =IF(B21="","",CONFIG!$B$7+SUMIFS($E$6:$E$505,$B$6:$B$505,">="&CONFIG!$B$5,$B$6:$B$505,"<="&B21,$G$6:$G$505,"Realizado")-SUMIFS($F$6:$F$505,$B$6:$B$505,">="&CONFIG!$B$5,$B$6:$B$505,"<="&B21,$G$6:$G$505,"Realizado")) | M21: =IF(B21="","",CONFIG!$B$7+SUMIFS($E$6:$E$505,$B$6:$B$505,">="&CONFIG!$B$5,$B$6:$B$505,"<="&B21)-SUMIFS($F$6:$F$505,$B$6:$B$505,">="&CONFIG!$B$5,$B$6:$B$505,"<="&B21)) | N21: =IF(B21="","",TEXT(B21,"mmm/yyyy")) | O21: =IF(B21="","",IF(OR(SUM(E21)<0,SUM(F21)<0),"ERRO: valor negativo",IF(AND(SUM(E21)>0,SUM(F21)>0),"ERRO: entrada e saída",IF(AND(SUM(E21)=0,SUM(F21)=0),"ERRO: informe valor",IF(C21="","ERRO: descrição",IF(D21="","ERRO: categoria",IF(G21="","ERRO: status",IF(I21="","ERRO: conta",IF(AND(G21="Previsto",B21<TODAY()),"ATENÇÃO: previsão vencida","OK")))))))))
K22: =IF(B22="","",SUM(E22)-SUM(F22)) | L22: =IF(B22="","",CONFIG!$B$7+SUMIFS($E$6:$E$505,$B$6:$B$505,">="&CONFIG!$B$5,$B$6:$B$505,"<="&B22,$G$6:$G$505,"Realizado")-SUMIFS($F$6:$F$505,$B$6:$B$505,">="&CONFIG!$B$5,$B$6:$B$505,"<="&B22,$G$6:$G$505,"Realizado")) | M22: =IF(B22="","",CONFIG!$B$7+SUMIFS($E$6:$E$505,$B$6:$B$505,">="&CONFIG!$B$5,$B$6:$B$505,"<="&B22)-SUMIFS($F$6:$F$505,$B$6:$B$505,">="&CONFIG!$B$5,$B$6:$B$505,"<="&B22)) | N22: =IF(B22="","",TEXT(B22,"mmm/yyyy")) | O22: =IF(B22="","",IF(OR(SUM(E22)<0,SUM(F22)<0),"ERRO: valor negativo",IF(AND(SUM(E22)>0,SUM(F22)>0),"ERRO: entrada e saída",IF(AND(SUM(E22)=0,SUM(F22)=0),"ERRO: informe valor",IF(C22="","ERRO: descrição",IF(D22="","ERRO: categoria",IF(G22="","ERRO: status",IF(I22="","ERRO: conta",IF(AND(G22="Previsto",B22<TODAY()),"ATENÇÃO: previsão vencida","OK")))))))))
K23: =IF(B23="","",SUM(E23)-SUM(F23)) | L23: =IF(B23="","",CONFIG!$B$7+SUMIFS($E$6:$E$505,$B$6:$B$505,">="&CONFIG!$B$5,$B$6:$B$505,"<="&B23,$G$6:$G$505,"Realizado")-SUMIFS($F$6:$F$505,$B$6:$B$505,">="&CONFIG!$B$5,$B$6:$B$505,"<="&B23,$G$6:$G$505,"Realizado")) | M23: =IF(B23="","",CONFIG!$B$7+SUMIFS($E$6:$E$505,$B$6:$B$505,">="&CONFIG!$B$5,$B$6:$B$505,"<="&B23)-SUMIFS($F$6:$F$505,$B$6:$B$505,">="&CONFIG!$B$5,$B$6:$B$505,"<="&B23)) | N23: =IF(B23="","",TEXT(B23,"mmm/yyyy")) | O23: =IF(B23="","",IF(OR(SUM(E23)<0,SUM(F23)<0),"ERRO: valor negativo",IF(AND(SUM(E23)>0,SUM(F23)>0),"ERRO: entrada e saída",IF(AND(SUM(E23)=0,SUM(F23)=0),"ERRO: informe valor",IF(C23="","ERRO: descrição",IF(D23="","ERRO: categoria",IF(G23="","ERRO: status",IF(I23="","ERRO: conta",IF(AND(G23="Previsto",B23<TODAY()),"ATENÇÃO: previsão vencida","OK")))))))))
K24: =IF(B24="","",SUM(E24)-SUM(F24)) | L24: =IF(B24="","",CONFIG!$B$7+SUMIFS($E$6:$E$505,$B$6:$B$505,">="&CONFIG!$B$5,$B$6:$B$505,"<="&B24,$G$6:$G$505,"Realizado")-SUMIFS($F$6:$F$505,$B$6:$B$505,">="&CONFIG!$B$5,$B$6:$B$505,"<="&B24,$G$6:$G$505,"Realizado")) | M24: =IF(B24="","",CONFIG!$B$7+SUMIFS($E$6:$E$505,$B$6:$B$505,">="&CONFIG!$B$5,$B$6:$B$505,"<="&B24)-SUMIFS($F$6:$F$505,$B$6:$B$505,">="&CONFIG!$B$5,$B$6:$B$505,"<="&B24)) | N24: =IF(B24="","",TEXT(B24,"mmm/yyyy")) | O24: =IF(B24="","",IF(OR(SUM(E24)<0,SUM(F24)<0),"ERRO: valor negativo",IF(AND(SUM(E24)>0,SUM(F24)>0),"ERRO: entrada e saída",IF(AND(SUM(E24)=0,SUM(F24)=0),"ERRO: informe valor",IF(C24="","ERRO: descrição",IF(D24="","ERRO: categoria",IF(G24="","ERRO: status",IF(I24="","ERRO: conta",IF(AND(G24="Previsto",B24<TODAY()),"ATENÇÃO: previsão vencida","OK")))))))))
K25: =IF(B25="","",SUM(E25)-SUM(F25)) | L25: =IF(B25="","",CONFIG!$B$7+SUMIFS($E$6:$E$505,$B$6:$B$505,">="&CONFIG!$B$5,$B$6:$B$505,"<="&B25,$G$6:$G$505,"Realizado")-SUMIFS($F$6:$F$505,$B$6:$B$505,">="&CONFIG!$B$5,$B$6:$B$505,"<="&B25,$G$6:$G$505,"Realizado")) | M25: =IF(B25="","",CONFIG!$B$7+SUMIFS($E$6:$E$505,$B$6:$B$505,">="&CONFIG!$B$5,$B$6:$B$505,"<="&B25)-SUMIFS($F$6:$F$505,$B$6:$B$505,">="&CONFIG!$B$5,$B$6:$B$505,"<="&B25)) | N25: =IF(B25="","",TEXT(B25,"mmm/yyyy")) | O25: =IF(B25="","",IF(OR(SUM(E25)<0,SUM(F25)<0),"ERRO: valor negativo",IF(AND(SUM(E25)>0,SUM(F25)>0),"ERRO: entrada e saída",IF(AND(SUM(E25)=0,SUM(F25)=0),"ERRO: informe valor",IF(C25="","ERRO: descrição",IF(D25="","ERRO: categoria",IF(G25="","ERRO: status",IF(I25="","ERRO: conta",IF(AND(G25="Previsto",B25<TODAY()),"ATENÇÃO: previsão vencida","OK")))))))))
K26: =IF(B26="","",SUM(E26)-SUM(F26)) | L26: =IF(B26="","",CONFIG!$B$7+SUMIFS($E$6:$E$505,$B$6:$B$505,">="&CONFIG!$B$5,$B$6:$B$505,"<="&B26,$G$6:$G$505,"Realizado")-SUMIFS($F$6:$F$505,$B$6:$B$505,">="&CONFIG!$B$5,$B$6:$B$505,"<="&B26,$G$6:$G$505,"Realizado")) | M26: =IF(B26="","",CONFIG!$B$7+SUMIFS($E$6:$E$505,$B$6:$B$505,">="&CONFIG!$B$5,$B$6:$B$505,"<="&B26)-SUMIFS($F$6:$F$505,$B$6:$B$505,">="&CONFIG!$B$5,$B$6:$B$505,"<="&B26)) | N26: =IF(B26="","",TEXT(B26,"mmm/yyyy")) | O26: =IF(B26="","",IF(OR(SUM(E26)<0,SUM(F26)<0),"ERRO: valor negativo",IF(AND(SUM(E26)>0,SUM(F26)>0),"ERRO: entrada e saída",IF(AND(SUM(E26)=0,SUM(F26)=0),"ERRO: informe valor",IF(C26="","ERRO: descrição",IF(D26="","ERRO: categoria",IF(G26="","ERRO: status",IF(I26="","ERRO: conta",IF(AND(G26="Previsto",B26<TODAY()),"ATENÇÃO: previsão vencida","OK")))))))))
K27: =IF(B27="","",SUM(E27)-SUM(F27)) | L27: =IF(B27="","",CONFIG!$B$7+SUMIFS($E$6:$E$505,$B$6:$B$505,">="&CONFIG!$B$5,$B$6:$B$505,"<="&B27,$G$6:$G$505,"Realizado")-SUMIFS($F$6:$F$505,$B$6:$B$505,">="&CONFIG!$B$5,$B$6:$B$505,"<="&B27,$G$6:$G$505,"Realizado")) | M27: =IF(B27="","",CONFIG!$B$7+SUMIFS($E$6:$E$505,$B$6:$B$505,">="&CONFIG!$B$5,$B$6:$B$505,"<="&B27)-SUMIFS($F$6:$F$505,$B$6:$B$505,">="&CONFIG!$B$5,$B$6:$B$505,"<="&B27)) | N27: =IF(B27="","",TEXT(B27,"mmm/yyyy")) | O27: =IF(B27="","",IF(OR(SUM(E27)<0,SUM(F27)<0),"ERRO: valor negativo",IF(AND(SUM(E27)>0,SUM(F27)>0),"ERRO: entrada e saída",IF(AND(SUM(E27)=0,SUM(F27)=0),"ERRO: informe valor",IF(C27="","ERRO: descrição",IF(D27="","ERRO: categoria",IF(G27="","ERRO: status",IF(I27="","ERRO: conta",IF(AND(G27="Previsto",B27<TODAY()),"ATENÇÃO: previsão vencida","OK")))))))))
... K505: =IF(B505="","",SUM(E505)-SUM(F505)) | L505: =IF(B505="","",CONFIG!$B$7+SUMIFS($E$6:$E$505,$B$6:$B$505,">="&CONFIG!$B$5,$B$6:$B$505,"<="&B505,$G$6:$G$505,"Realizado")-SUMIFS($F$6:$F$505,$B$6:$B$505,">="&CONFIG!$B$5,$B$6:$B$505,"<="&B505,$G$6:$G$505,"Realizado")) | M505: =IF(B505="","",CONFIG!$B$7+SUMIFS($E$6:$E$505,$B$6:$B$505,">="&CONFIG!$B$5,$B$6:$B$505,"<="&B505)-SUMIFS($F$6:$F$505,$B$6:$B$505,">="&CONFIG!$B$5,$B$6:$B$505,"<="&B505)) | N505: =IF(B505="","",TEXT(B505,"mmm/yyyy")) | O505: =IF(B505="","",IF(OR(SUM(E505)<0,SUM(F505)<0),"ERRO: valor negativo",IF(AND(SUM(E505)>0,SUM(F505)>0),"ERRO: entrada e saída",IF(AND(SUM(E505)=0,SUM(F505)=0),"ERRO: informe valor",IF(C505="","ERRO: descrição",IF(D505="","ERRO: categoria",IF(G505="","ERRO: status",IF(I505="","ERRO: conta",IF(AND(G505="Previsto",B505<TODAY()),"ATENÇÃO: previsão vencida","OK")))))))))

Sheet CONFIG
A1: CONFIGURAÇÕES E LISTAS
A4: Parâmetro | B4: Valor | D4: Status | E4: Categorias | F4: Formas de pagamento
A5: Data-base do saldo inicial | B5: 46235 | D5: Realizado | E5: Vendas | F5: PIX
A6: Horizonte de projeção (dias) | B6: 90 | D6: Previsto | E6: Serviços | F6: Transferência
A7: Saldo inicial consolidado | B7: =SUM(B10:B30) -> 19000 | E7: Recebimentos de clientes | F7: Boleto
E8: Aporte de sócios | F8: Cartão de débito
A9: Contas / caixas | B9: Saldo inicial (R$) | C9: Ativa? | E9: Outros recebimentos | F9: Cartão de crédito
A10: Conta Corrente | B10: 12500 | C10: Sim | E10: Fornecedores | F10: Dinheiro
A11: Caixa | B11: 1500 | C11: Sim | E11: Folha de pagamento | F11: Débito automático
A12: Reserva | B12: 5000 | C12: Sim | E12: Pró-labore | F12: Cheque
E13: Aluguel | F13: Outro
E14: Impostos e taxas
E15: Marketing
E16: Transporte
E17: Software e assinaturas
E18: Água / Energia / Internet
E19: Tarifas bancárias
E20: Manutenção
E21: Compras / Estoque
E22: Empréstimos / Financiamentos
E23: Investimentos
E24: Outros pagamentos
A32: Observação | B32: Os saldos iniciais devem refletir cada conta no início do dia da Data-base.
A33: Regra de uso | B33: Lance movimentos ocorridos ou esperados a partir da Data-base.
A34: Compatibilidade | B34: Fórmulas priorizam SUM, SUMIF/SUMIFS, COUNTIF/COUNTIFS, INDEX e MATCH.

Sheet FLUXO_DIARIO
A1: FLUXO DIÁRIO — REALIZADO x PROJETADO
A4: Data | B4: Entradas realizadas (R$) | C4: Saídas realizadas (R$) | D4: Saldo realizado (R$) | E4: Entradas previstas (R$) | F4: Saídas previstas (R$) | G4: Saldo projetado (R$) | H4: Status caixa | I4: Saldo no horizonte | J4: Ruptura no horizonte
A5: =CONFIG!$B$5 -> 46235 | B5: =SUMIFS(LANCAMENTOS!$E$6:$E$505,LANCAMENTOS!$B$6:$B$505,A5,LANCAMENTOS!$G$6:$G$505,"Realizado") -> 4500 | C5: =SUMIFS(LANCAMENTOS!$F$6:$F$505,LANCAMENTOS!$B$6:$B$505,A5,LANCAMENTOS!$G$6:$G$505,"Realizado") -> 0 | D5: =IF(A5>TODAY(),"",CONFIG!$B$7+SUMIFS(LANCAMENTOS!$E$6:$E$505,LANCAMENTOS!$B$6:$B$505,">="&CONFIG!$B$5,LANCAMENTOS!$B$6:$B$505,"<="&A5,LANCAMENTOS!$G$6:$G$505,"Realizado")-SUMIFS(LANCAMENTOS!$F$6:$F$505,LANCAMENTOS!$B$6:$B$505,">="&CONFIG!$B$5,LANCAMENTOS!$B$6:$B$505,"<="&A5,LANCAMENTOS!$G$6:$G$505,"Realizado")) -> 23500 | E5: =SUMIFS(LANCAMENTOS!$E$6:$E$505,LANCAMENTOS!$B$6:$B$505,A5,LANCAMENTOS!$G$6:$G$505,"Previsto") -> 0 | F5: =SUMIFS(LANCAMENTOS!$F$6:$F$505,LANCAMENTOS!$B$6:$B$505,A5,LANCAMENTOS!$G$6:$G$505,"Previsto") -> 0 | G5: =CONFIG!$B$7+SUMIFS(LANCAMENTOS!$E$6:$E$505,LANCAMENTOS!$B$6:$B$505,">="&CONFIG!$B$5,LANCAMENTOS!$B$6:$B$505,"<="&A5)-SUMIFS(LANCAMENTOS!$F$6:$F$505,LANCAMENTOS!$B$6:$B$505,">="&CONFIG!$B$5,LANCAMENTOS!$B$6:$B$505,"<="&A5) -> 23500 | H5: =IF(G5<0,"FALTA DE CAIXA","OK") -> OK | I5: =IF(AND(A5>=TODAY(),A5<=TODAY()+CONFIG!$B$6),G5,"") | J5: =IF(AND(A5>=TODAY(),A5<=TODAY()+CONFIG!$B$6,G5<0),"FALTA DE CAIXA","")
A6: =A5+1 -> 46236 | B6: =SUMIFS(LANCAMENTOS!$E$6:$E$505,LANCAMENTOS!$B$6:$B$505,A6,LANCAMENTOS!$G$6:$G$505,"Realizado") -> 0 | C6: =SUMIFS(LANCAMENTOS!$F$6:$F$505,LANCAMENTOS!$B$6:$B$505,A6,LANCAMENTOS!$G$6:$G$505,"Realizado") -> 0 | D6: =IF(A6>TODAY(),"",CONFIG!$B$7+SUMIFS(LANCAMENTOS!$E$6:$E$505,LANCAMENTOS!$B$6:$B$505,">="&CONFIG!$B$5,LANCAMENTOS!$B$6:$B$505,"<="&A6,LANCAMENTOS!$G$6:$G$505,"Realizado")-SUMIFS(LANCAMENTOS!$F$6:$F$505,LANCAMENTOS!$B$6:$B$505,">="&CONFIG!$B$5,LANCAMENTOS!$B$6:$B$505,"<="&A6,LANCAMENTOS!$G$6:$G$505,"Realizado")) -> 23500 | E6: =SUMIFS(LANCAMENTOS!$E$6:$E$505,LANCAMENTOS!$B$6:$B$505,A6,LANCAMENTOS!$G$6:$G$505,"Previsto") -> 0 | F6: =SUMIFS(LANCAMENTOS!$F$6:$F$505,LANCAMENTOS!$B$6:$B$505,A6,LANCAMENTOS!$G$6:$G$505,"Previsto") -> 0 | G6: =CONFIG!$B$7+SUMIFS(LANCAMENTOS!$E$6:$E$505,LANCAMENTOS!$B$6:$B$505,">="&CONFIG!$B$5,LANCAMENTOS!$B$6:$B$505,"<="&A6)-SUMIFS(LANCAMENTOS!$F$6:$F$505,LANCAMENTOS!$B$6:$B$505,">="&CONFIG!$B$5,LANCAMENTOS!$B$6:$B$505,"<="&A6) -> 23500 | H6: =IF(G6<0,"FALTA DE CAIXA","OK") -> OK | I6: =IF(AND(A6>=TODAY(),A6<=TODAY()+CONFIG!$B$6),G6,"") | J6: =IF(AND(A6>=TODAY(),A6<=TODAY()+CONFIG!$B$6,G6<0),"FALTA DE CAIXA","")
A7: =A6+1 -> 46237 | B7: =SUMIFS(LANCAMENTOS!$E$6:$E$505,LANCAMENTOS!$B$6:$B$505,A7,LANCAMENTOS!$G$6:$G$505,"Realizado") -> 0 | C7: =SUMIFS(LANCAMENTOS!$F$6:$F$505,LANCAMENTOS!$B$6:$B$505,A7,LANCAMENTOS!$G$6:$G$505,"Realizado") -> 2200 | D7: =IF(A7>TODAY(),"",CONFIG!$B$7+SUMIFS(LANCAMENTOS!$E$6:$E$505,LANCAMENTOS!$B$6:$B$505,">="&CONFIG!$B$5,LANCAMENTOS!$B$6:$B$505,"<="&A7,LANCAMENTOS!$G$6:$G$505,"Realizado")-SUMIFS(LANCAMENTOS!$F$6:$F$505,LANCAMENTOS!$B$6:$B$505,">="&CONFIG!$B$5,LANCAMENTOS!$B$6:$B$505,"<="&A7,LANCAMENTOS!$G$6:$G$505,"Realizado")) -> 21300 | E7: =SUMIFS(LANCAMENTOS!$E$6:$E$505,LANCAMENTOS!$B$6:$B$505,A7,LANCAMENTOS!$G$6:$G$505,"Previsto") -> 0 | F7: =SUMIFS(LANCAMENTOS!$F$6:$F$505,LANCAMENTOS!$B$6:$B$505,A7,LANCAMENTOS!$G$6:$G$505,"Previsto") -> 0 | G7: =CONFIG!$B$7+SUMIFS(LANCAMENTOS!$E$6:$E$505,LANCAMENTOS!$B$6:$B$505,">="&CONFIG!$B$5,LANCAMENTOS!$B$6:$B$505,"<="&A7)-SUMIFS(LANCAMENTOS!$F$6:$F$505,LANCAMENTOS!$B$6:$B$505,">="&CONFIG!$B$5,LANCAMENTOS!$B$6:$B$505,"<="&A7) -> 21300 | H7: =IF(G7<0,"FALTA DE CAIXA","OK") -> OK | I7: =IF(AND(A7>=TODAY(),A7<=TODAY()+CONFIG!$B$6),G7,"") | J7: =IF(AND(A7>=TODAY(),A7<=TODAY()+CONFIG!$B$6,G7<0),"FALTA DE CAIXA","")
A8: =A7+1 -> 46238 | B8: =SUMIFS(LANCAMENTOS!$E$6:$E$505,LANCAMENTOS!$B$6:$B$505,A8,LANCAMENTOS!$G$6:$G$505,"Realizado") -> 0 | C8: =SUMIFS(LANCAMENTOS!$F$6:$F$505,LANCAMENTOS!$B$6:$B$505,A8,LANCAMENTOS!$G$6:$G$505,"Realizado") -> 0 | D8: =IF(A8>TODAY(),"",CONFIG!$B$7+SUMIFS(LANCAMENTOS!$E$6:$E$505,LANCAMENTOS!$B$6:$B$505,">="&CONFIG!$B$5,LANCAMENTOS!$B$6:$B$505,"<="&A8,LANCAMENTOS!$G$6:$G$505,"Realizado")-SUMIFS(LANCAMENTOS!$F$6:$F$505,LANCAMENTOS!$B$6:$B$505,">="&CONFIG!$B$5,LANCAMENTOS!$B$6:$B$505,"<="&A8,LANCAMENTOS!$G$6:$G$505,"Realizado")) -> 21300 | E8: =SUMIFS(LANCAMENTOS!$E$6:$E$505,LANCAMENTOS!$B$6:$B$505,A8,LANCAMENTOS!$G$6:$G$505,"Previsto") -> 0 | F8: =SUMIFS(LANCAMENTOS!$F$6:$F$505,LANCAMENTOS!$B$6:$B$505,A8,LANCAMENTOS!$G$6:$G$505,"Previsto") -> 0 | G8: =CONFIG!$B$7+SUMIFS(LANCAMENTOS!$E$6:$E$505,LANCAMENTOS!$B$6:$B$505,">="&CONFIG!$B$5,LANCAMENTOS!$B$6:$B$505,"<="&A8)-SUMIFS(LANCAMENTOS!$F$6:$F$505,LANCAMENTOS!$B$6:$B$505,">="&CONFIG!$B$5,LANCAMENTOS!$B$6:$B$505,"<="&A8) -> 21300 | H8: =IF(G8<0,"FALTA DE CAIXA","OK") -> OK | I8: =IF(AND(A8>=TODAY(),A8<=TODAY()+CONFIG!$B$6),G8,"") | J8: =IF(AND(A8>=TODAY(),A8<=TODAY()+CONFIG!$B$6,G8<0),"FALTA DE CAIXA","")
A9: =A8+1 -> 46239 | B9: =SUMIFS(LANCAMENTOS!$E$6:$E$505,LANCAMENTOS!$B$6:$B$505,A9,LANCAMENTOS!$G$6:$G$505,"Realizado") -> 1800 | C9: =SUMIFS(LANCAMENTOS!$F$6:$F$505,LANCAMENTOS!$B$6:$B$505,A9,LANCAMENTOS!$G$6:$G$505,"Realizado") -> 0 | D9: =IF(A9>TODAY(),"",CONFIG!$B$7+SUMIFS(LANCAMENTOS!$E$6:$E$505,LANCAMENTOS!$B$6:$B$505,">="&CONFIG!$B$5,LANCAMENTOS!$B$6:$B$505,"<="&A9,LANCAMENTOS!$G$6:$G$505,"Realizado")-SUMIFS(LANCAMENTOS!$F$6:$F$505,LANCAMENTOS!$B$6:$B$505,">="&CONFIG!$B$5,LANCAMENTOS!$B$6:$B$505,"<="&A9,LANCAMENTOS!$G$6:$G$505,"Realizado")) -> 23100 | E9: =SUMIFS(LANCAMENTOS!$E$6:$E$505,LANCAMENTOS!$B$6:$B$505,A9,LANCAMENTOS!$G$6:$G$505,"Previsto") -> 0 | F9: =SUMIFS(LANCAMENTOS!$F$6:$F$505,LANCAMENTOS!$B$6:$B$505,A9,LANCAMENTOS!$G$6:$G$505,"Previsto") -> 0 | G9: =CONFIG!$B$7+SUMIFS(LANCAMENTOS!$E$6:$E$505,LANCAMENTOS!$B$6:$B$505,">="&CONFIG!$B$5,LANCAMENTOS!$B$6:$B$505,"<="&A9)-SUMIFS(LANCAMENTOS!$F$6:$F$505,LANCAMENTOS!$B$6:$B$505,">="&CONFIG!$B$5,LANCAMENTOS!$B$6:$B$505,"<="&A9) -> 23100 | H9: =IF(G9<0,"FALTA DE CAIXA","OK") -> OK | I9: =IF(AND(A9>=TODAY(),A9<=TODAY()+CONFIG!$B$6),G9,"") | J9: =IF(AND(A9>=TODAY(),A9<=TODAY()+CONFIG!$B$6,G9<0),"FALTA DE CAIXA","")
A10: =A9+1 -> 46240 | B10: =SUMIFS(LANCAMENTOS!$E$6:$E$505,LANCAMENTOS!$B$6:$B$505,A10,LANCAMENTOS!$G$6:$G$505,"Realizado") -> 0 | C10: =SUMIFS(LANCAMENTOS!$F$6:$F$505,LANCAMENTOS!$B$6:$B$505,A10,LANCAMENTOS!$G$6:$G$505,"Realizado") -> 0 | D10: =IF(A10>TODAY(),"",CONFIG!$B$7+SUMIFS(LANCAMENTOS!$E$6:$E$505,LANCAMENTOS!$B$6:$B$505,">="&CONFIG!$B$5,LANCAMENTOS!$B$6:$B$505,"<="&A10,LANCAMENTOS!$G$6:$G$505,"Realizado")-SUMIFS(LANCAMENTOS!$F$6:$F$505,LANCAMENTOS!$B$6:$B$505,">="&CONFIG!$B$5,LANCAMENTOS!$B$6:$B$505,"<="&A10,LANCAMENTOS!$G$6:$G$505,"Realizado")) -> 23100 | E10: =SUMIFS(LANCAMENTOS!$E$6:$E$505,LANCAMENTOS!$B$6:$B$505,A10,LANCAMENTOS!$G$6:$G$505,"Previsto") -> 0 | F10: =SUMIFS(LANCAMENTOS!$F$6:$F$505,LANCAMENTOS!$B$6:$B$505,A10,LANCAMENTOS!$G$6:$G$505,"Previsto") -> 0 | G10: =CONFIG!$B$7+SUMIFS(LANCAMENTOS!$E$6:$E$505,LANCAMENTOS!$B$6:$B$505,">="&CONFIG!$B$5,LANCAMENTOS!$B$6:$B$505,"<="&A10)-SUMIFS(LANCAMENTOS!$F$6:$F$505,LANCAMENTOS!$B$6:$B$505,">="&CONFIG!$B$5,LANCAMENTOS!$B$6:$B$505,"<="&A10) -> 23100 | H10: =IF(G10<0,"FALTA DE CAIXA","OK") -> OK | I10: =IF(AND(A10>=TODAY(),A10<=TODAY()+CONFIG!$B$6),G10,"") | J10: =IF(AND(A10>=TODAY(),A10<=TODAY()+CONFIG!$B$6,G10<0),"FALTA DE CAIXA","")
A11: =A10+1 -> 46241 | B11: =SUMIFS(LANCAMENTOS!$E$6:$E$505,LANCAMENTOS!$B$6:$B$505,A11,LANCAMENTOS!$G$6:$G$505,"Realizado") -> 0 | C11: =SUMIFS(LANCAMENTOS!$F$6:$F$505,LANCAMENTOS!$B$6:$B$505,A11,LANCAMENTOS!$G$6:$G$505,"Realizado") -> 0 | D11: =IF(A11>TODAY(),"",CONFIG!$B$7+SUMIFS(LANCAMENTOS!$E$6:$E$505,LANCAMENTOS!$B$6:$B$505,">="&CONFIG!$B$5,LANCAMENTOS!$B$6:$B$505,"<="&A11,LANCAMENTOS!$G$6:$G$505,"Realizado")-SUMIFS(LANCAMENTOS!$F$6:$F$505,LANCAMENTOS!$B$6:$B$505,">="&CONFIG!$B$5,LANCAMENTOS!$B$6:$B$505,"<="&A11,LANCAMENTOS!$G$6:$G$505,"Realizado")) -> 23100 | E11: =SUMIFS(LANCAMENTOS!$E$6:$E$505,LANCAMENTOS!$B$6:$B$505,A11,LANCAMENTOS!$G$6:$G$505,"Previsto") -> 0 | F11: =SUMIFS(LANCAMENTOS!$F$6:$F$505,LANCAMENTOS!$B$6:$B$505,A11,LANCAMENTOS!$G$6:$G$505,"Previsto") -> 0 | G11: =CONFIG!$B$7+SUMIFS(LANCAMENTOS!$E$6:$E$505,LANCAMENTOS!$B$6:$B$505,">="&CONFIG!$B$5,LANCAMENTOS!$B$6:$B$505,"<="&A11)-SUMIFS(LANCAMENTOS!$F$6:$F$505,LANCAMENTOS!$B$6:$B$505,">="&CONFIG!$B$5,LANCAMENTOS!$B$6:$B$505,"<="&A11) -> 23100 | H11: =IF(G11<0,"FALTA DE CAIXA","OK") -> OK | I11: =IF(AND(A11>=TODAY(),A11<=TODAY()+CONFIG!$B$6),G11,"") | J11: =IF(AND(A11>=TODAY(),A11<=TODAY()+CONFIG!$B$6,G11<0),"FALTA DE CAIXA","")
A12: =A11+1 -> 46242 | B12: =SUMIFS(LANCAMENTOS!$E$6:$E$505,LANCAMENTOS!$B$6:$B$505,A12,LANCAMENTOS!$G$6:$G$505,"Realizado") -> 0 | C12: =SUMIFS(LANCAMENTOS!$F$6:$F$505,LANCAMENTOS!$B$6:$B$505,A12,LANCAMENTOS!$G$6:$G$505,"Realizado") -> 1250 | D12: =IF(A12>TODAY(),"",CONFIG!$B$7+SUMIFS(LANCAMENTOS!$E$6:$E$505,LANCAMENTOS!$B$6:$B$505,">="&CONFIG!$B$5,LANCAMENTOS!$B$6:$B$505,"<="&A12,LANCAMENTOS!$G$6:$G$505,"Realizado")-SUMIFS(LANCAMENTOS!$F$6:$F$505,LANCAMENTOS!$B$6:$B$505,">="&CONFIG!$B$5,LANCAMENTOS!$B$6:$B$505,"<="&A12,LANCAMENTOS!$G$6:$G$505,"Realizado")) -> 21850 | E12: =SUMIFS(LANCAMENTOS!$E$6:$E$505,LANCAMENTOS!$B$6:$B$505,A12,LANCAMENTOS!$G$6:$G$505,"Previsto") -> 0 | F12: =SUMIFS(LANCAMENTOS!$F$6:$F$505,LANCAMENTOS!$B$6:$B$505,A12,LANCAMENTOS!$G$6:$G$505,"Previsto") -> 0 | G12: =CONFIG!$B$7+SUMIFS(LANCAMENTOS!$E$6:$E$505,LANCAMENTOS!$B$6:$B$505,">="&CONFIG!$B$5,LANCAMENTOS!$B$6:$B$505,"<="&A12)-SUMIFS(LANCAMENTOS!$F$6:$F$505,LANCAMENTOS!$B$6:$B$505,">="&CONFIG!$B$5,LANCAMENTOS!$B$6:$B$505,"<="&A12) -> 21850 | H12: =IF(G12<0,"FALTA DE CAIXA","OK") -> OK | I12: =IF(AND(A12>=TODAY(),A12<=TODAY()+CONFIG!$B$6),G12,"") | J12: =IF(AND(A12>=TODAY(),A12<=TODAY()+CONFIG!$B$6,G12<0),"FALTA DE CAIXA","")
A13: =A12+1 -> 46243 | B13: =SUMIFS(LANCAMENTOS!$E$6:$E$505,LANCAMENTOS!$B$6:$B$505,A13,LANCAMENTOS!$G$6:$G$505,"Realizado") -> 0 | C13: =SUMIFS(LANCAMENTOS!$F$6:$F$505,LANCAMENTOS!$B$6:$B$505,A13,LANCAMENTOS!$G$6:$G$505,"Realizado") -> 0 | D13: =IF(A13>TODAY(),"",CONFIG!$B$7+SUMIFS(LANCAMENTOS!$E$6:$E$505,LANCAMENTOS!$B$6:$B$505,">="&CONFIG!$B$5,LANCAMENTOS!$B$6:$B$505,"<="&A13,LANCAMENTOS!$G$6:$G$505,"Realizado")-SUMIFS(LANCAMENTOS!$F$6:$F$505,LANCAMENTOS!$B$6:$B$505,">="&CONFIG!$B$5,LANCAMENTOS!$B$6:$B$505,"<="&A13,LANCAMENTOS!$G$6:$G$505,"Realizado")) -> 21850 | E13: =SUMIFS(LANCAMENTOS!$E$6:$E$505,LANCAMENTOS!$B$6:$B$505,A13,LANCAMENTOS!$G$6:$G$505,"Previsto") -> 0 | F13: =SUMIFS(LANCAMENTOS!$F$6:$F$505,LANCAMENTOS!$B$6:$B$505,A13,LANCAMENTOS!$G$6:$G$505,"Previsto") -> 0 | G13: =CONFIG!$B$7+SUMIFS(LANCAMENTOS!$E$6:$E$505,LANCAMENTOS!$B$6:$B$505,">="&CONFIG!$B$5,LANCAMENTOS!$B$6:$B$505,"<="&A13)-SUMIFS(LANCAMENTOS!$F$6:$F$505,LANCAMENTOS!$B$6:$B$505,">="&CONFIG!$B$5,LANCAMENTOS!$B$6:$B$505,"<="&A13) -> 21850 | H13: =IF(G13<0,"FALTA DE CAIXA","OK") -> OK | I13: =IF(AND(A13>=TODAY(),A13<=TODAY()+CONFIG!$B$6),G13,"") | J13: =IF(AND(A13>=TODAY(),A13<=TODAY()+CONFIG!$B$6,G13<0),"FALTA DE CAIXA","")
A14: =A13+1 -> 46244 | B14: =SUMIFS(LANCAMENTOS!$E$6:$E$505,LANCAMENTOS!$B$6:$B$505,A14,LANCAMENTOS!$G$6:$G$505,"Realizado") -> 0 | C14: =SUMIFS(LANCAMENTOS!$F$6:$F$505,LANCAMENTOS!$B$6:$B$505,A14,LANCAMENTOS!$G$6:$G$505,"Realizado") -> 0 | D14: =IF(A14>TODAY(),"",CONFIG!$B$7+SUMIFS(LANCAMENTOS!$E$6:$E$505,LANCAMENTOS!$B$6:$B$505,">="&CONFIG!$B$5,LANCAMENTOS!$B$6:$B$505,"<="&A14,LANCAMENTOS!$G$6:$G$505,"Realizado")-SUMIFS(LANCAMENTOS!$F$6:$F$505,LANCAMENTOS!$B$6:$B$505,">="&CONFIG!$B$5,LANCAMENTOS!$B$6:$B$505,"<="&A14,LANCAMENTOS!$G$6:$G$505,"Realizado")) -> 21850 | E14: =SUMIFS(LANCAMENTOS!$E$6:$E$505,LANCAMENTOS!$B$6:$B$505,A14,LANCAMENTOS!$G$6:$G$505,"Previsto") -> 0 | F14: =SUMIFS(LANCAMENTOS!$F$6:$F$505,LANCAMENTOS!$B$6:$B$505,A14,LANCAMENTOS!$G$6:$G$505,"Previsto") -> 0 | G14: =CONFIG!$B$7+SUMIFS(LANCAMENTOS!$E$6:$E$505,LANCAMENTOS!$B$6:$B$505,">="&CONFIG!$B$5,LANCAMENTOS!$B$6:$B$505,"<="&A14)-SUMIFS(LANCAMENTOS!$F$6:$F$505,LANCAMENTOS!$B$6:$B$505,">="&CONFIG!$B$5,LANCAMENTOS!$B$6:$B$505,"<="&A14) -> 21850 | H14: =IF(G14<0,"FALTA DE CAIXA","OK") -> OK | I14: =IF(AND(A14>=TODAY(),A14<=TODAY()+CONFIG!$B$6),G14,"") | J14: =IF(AND(A14>=TODAY(),A14<=TODAY()+CONFIG!$B$6,G14<0),"FALTA DE CAIXA","")
A15: =A14+1 -> 46245 | B15: =SUMIFS(LANCAMENTOS!$E$6:$E$505,LANCAMENTOS!$B$6:$B$505,A15,LANCAMENTOS!$G$6:$G$505,"Realizado") -> 0 | C15: =SUMIFS(LANCAMENTOS!$F$6:$F$505,LANCAMENTOS!$B$6:$B$505,A15,LANCAMENTOS!$G$6:$G$505,"Realizado") -> 0 | D15: =IF(A15>TODAY(),"",CONFIG!$B$7+SUMIFS(LANCAMENTOS!$E$6:$E$505,LANCAMENTOS!$B$6:$B$505,">="&CONFIG!$B$5,LANCAMENTOS!$B$6:$B$505,"<="&A15,LANCAMENTOS!$G$6:$G$505,"Realizado")-SUMIFS(LANCAMENTOS!$F$6:$F$505,LANCAMENTOS!$B$6:$B$505,">="&CONFIG!$B$5,LANCAMENTOS!$B$6:$B$505,"<="&A15,LANCAMENTOS!$G$6:$G$505,"Realizado")) -> 21850 | E15: =SUMIFS(LANCAMENTOS!$E$6:$E$505,LANCAMENTOS!$B$6:$B$505,A15,LANCAMENTOS!$G$6:$G$505,"Previsto") -> 0 | F15: =SUMIFS(LANCAMENTOS!$F$6:$F$505,LANCAMENTOS!$B$6:$B$505,A15,LANCAMENTOS!$G$6:$G$505,"Previsto") -> 0 | G15: =CONFIG!$B$7+SUMIFS(LANCAMENTOS!$E$6:$E$505,LANCAMENTOS!$B$6:$B$505,">="&CONFIG!$B$5,LANCAMENTOS!$B$6:$B$505,"<="&A15)-SUMIFS(LANCAMENTOS!$F$6:$F$505,LANCAMENTOS!$B$6:$B$505,">="&CONFIG!$B$5,LANCAMENTOS!$B$6:$B$505,"<="&A15) -> 21850 | H15: =IF(G15<0,"FALTA DE CAIXA","OK") -> OK | I15: =IF(AND(A15>=TODAY(),A15<=TODAY()+CONFIG!$B$6),G15,"") -> 21850 | J15: =IF(AND(A15>=TODAY(),A15<=TODAY()+CONFIG!$B$6,G15<0),"FALTA DE CAIXA","")
